BEGIN:VCALENDAR
VERSION:2.0
PRODID:-//Freie Missionsgemeinde Neckarweihingen - ECPv6.15.12.2//NONSGML v1.0//EN
CALSCALE:GREGORIAN
METHOD:PUBLISH
X-WR-CALNAME:Freie Missionsgemeinde Neckarweihingen
X-ORIGINAL-URL:https://fmg-nw.de
X-WR-CALDESC:Veranstaltungen für Freie Missionsgemeinde Neckarweihingen
REFRESH-INTERVAL;VALUE=DURATION:PT1H
X-Robots-Tag:noindex
X-PUBLISHED-TTL:PT1H
BEGIN:VTIMEZONE
TZID:Europe/Berlin
BEGIN:DAYLIGHT
TZOFFSETFROM:+0100
TZOFFSETTO:+0200
TZNAME:CEST
DTSTART:20250330T010000
END:DAYLIGHT
BEGIN:STANDARD
TZOFFSETFROM:+0200
TZOFFSETTO:+0100
TZNAME:CET
DTSTART:20251026T010000
END:STANDARD
BEGIN:DAYLIGHT
TZOFFSETFROM:+0100
TZOFFSETTO:+0200
TZNAME:CEST
DTSTART:20260329T010000
END:DAYLIGHT
BEGIN:STANDARD
TZOFFSETFROM:+0200
TZOFFSETTO:+0100
TZNAME:CET
DTSTART:20261025T010000
END:STANDARD
BEGIN:DAYLIGHT
TZOFFSETFROM:+0100
TZOFFSETTO:+0200
TZNAME:CEST
DTSTART:20270328T010000
END:DAYLIGHT
BEGIN:STANDARD
TZOFFSETFROM:+0200
TZOFFSETTO:+0100
TZNAME:CET
DTSTART:20271031T010000
END:STANDARD
END:VTIMEZONE
BEGIN:VEVENT
DTSTART;TZID=Europe/Berlin:20260422T163000
DTEND;TZID=Europe/Berlin:20260422T180000
DTSTAMP:20260421T102135
CREATED:20260125T172252Z
LAST-MODIFIED:20260125T172303Z
UID:10004480-1776875400-1776880800@fmg-nw.de
SUMMARY:Jungschar
DESCRIPTION:
URL:https://fmg-nw.de/event/jungschar-4-2/2026-04-22/
END:VEVENT
BEGIN:VEVENT
DTSTART;TZID=Europe/Berlin:20260429T163000
DTEND;TZID=Europe/Berlin:20260429T180000
DTSTAMP:20260421T102135
CREATED:20260125T172252Z
LAST-MODIFIED:20260125T172303Z
UID:10004481-1777480200-1777485600@fmg-nw.de
SUMMARY:Jungschar
DESCRIPTION:
URL:https://fmg-nw.de/event/jungschar-4-2/2026-04-29/
END:VEVENT
BEGIN:VEVENT
DTSTART;TZID=Europe/Berlin:20260506T163000
DTEND;TZID=Europe/Berlin:20260506T180000
DTSTAMP:20260421T102135
CREATED:20260125T172252Z
LAST-MODIFIED:20260125T172303Z
UID:10004482-1778085000-1778090400@fmg-nw.de
SUMMARY:Jungschar
DESCRIPTION:
URL:https://fmg-nw.de/event/jungschar-4-2/2026-05-06/
END:VEVENT
BEGIN:VEVENT
DTSTART;TZID=Europe/Berlin:20260513T163000
DTEND;TZID=Europe/Berlin:20260513T180000
DTSTAMP:20260421T102135
CREATED:20260125T172252Z
LAST-MODIFIED:20260125T172303Z
UID:10004483-1778689800-1778695200@fmg-nw.de
SUMMARY:Jungschar
DESCRIPTION:
URL:https://fmg-nw.de/event/jungschar-4-2/2026-05-13/
END:VEVENT
BEGIN:VEVENT
DTSTART;TZID=Europe/Berlin:20260520T163000
DTEND;TZID=Europe/Berlin:20260520T180000
DTSTAMP:20260421T102135
CREATED:20260125T172252Z
LAST-MODIFIED:20260125T172303Z
UID:10004484-1779294600-1779300000@fmg-nw.de
SUMMARY:Jungschar
DESCRIPTION:
URL:https://fmg-nw.de/event/jungschar-4-2/2026-05-20/
END:VEVENT
BEGIN:VEVENT
DTSTART;TZID=Europe/Berlin:20260527T163000
DTEND;TZID=Europe/Berlin:20260527T180000
DTSTAMP:20260421T102135
CREATED:20260125T172252Z
LAST-MODIFIED:20260125T172303Z
UID:10004485-1779899400-1779904800@fmg-nw.de
SUMMARY:Jungschar
DESCRIPTION:
URL:https://fmg-nw.de/event/jungschar-4-2/2026-05-27/
END:VEVENT
BEGIN:VEVENT
DTSTART;TZID=Europe/Berlin:20260603T163000
DTEND;TZID=Europe/Berlin:20260603T180000
DTSTAMP:20260421T102135
CREATED:20260125T172252Z
LAST-MODIFIED:20260125T172303Z
UID:10004486-1780504200-1780509600@fmg-nw.de
SUMMARY:Jungschar
DESCRIPTION:
URL:https://fmg-nw.de/event/jungschar-4-2/2026-06-03/
END:VEVENT
BEGIN:VEVENT
DTSTART;TZID=Europe/Berlin:20260610T163000
DTEND;TZID=Europe/Berlin:20260610T180000
DTSTAMP:20260421T102135
CREATED:20260125T172252Z
LAST-MODIFIED:20260125T172303Z
UID:10004487-1781109000-1781114400@fmg-nw.de
SUMMARY:Jungschar
DESCRIPTION:
URL:https://fmg-nw.de/event/jungschar-4-2/2026-06-10/
END:VEVENT
BEGIN:VEVENT
DTSTART;TZID=Europe/Berlin:20260617T163000
DTEND;TZID=Europe/Berlin:20260617T180000
DTSTAMP:20260421T102135
CREATED:20260125T172252Z
LAST-MODIFIED:20260125T172303Z
UID:10004488-1781713800-1781719200@fmg-nw.de
SUMMARY:Jungschar
DESCRIPTION:
URL:https://fmg-nw.de/event/jungschar-4-2/2026-06-17/
END:VEVENT
BEGIN:VEVENT
DTSTART;TZID=Europe/Berlin:20260624T163000
DTEND;TZID=Europe/Berlin:20260624T180000
DTSTAMP:20260421T102135
CREATED:20260125T172252Z
LAST-MODIFIED:20260125T172303Z
UID:10004489-1782318600-1782324000@fmg-nw.de
SUMMARY:Jungschar
DESCRIPTION:
URL:https://fmg-nw.de/event/jungschar-4-2/2026-06-24/
END:VEVENT
BEGIN:VEVENT
DTSTART;TZID=Europe/Berlin:20260701T163000
DTEND;TZID=Europe/Berlin:20260701T180000
DTSTAMP:20260421T102135
CREATED:20260125T172252Z
LAST-MODIFIED:20260125T172303Z
UID:10004490-1782923400-1782928800@fmg-nw.de
SUMMARY:Jungschar
DESCRIPTION:
URL:https://fmg-nw.de/event/jungschar-4-2/2026-07-01/
END:VEVENT
BEGIN:VEVENT
DTSTART;TZID=Europe/Berlin:20260708T163000
DTEND;TZID=Europe/Berlin:20260708T180000
DTSTAMP:20260421T102135
CREATED:20260125T172252Z
LAST-MODIFIED:20260125T172303Z
UID:10004491-1783528200-1783533600@fmg-nw.de
SUMMARY:Jungschar
DESCRIPTION:
URL:https://fmg-nw.de/event/jungschar-4-2/2026-07-08/
END:VEVENT
BEGIN:VEVENT
DTSTART;TZID=Europe/Berlin:20260715T163000
DTEND;TZID=Europe/Berlin:20260715T180000
DTSTAMP:20260421T102135
CREATED:20260125T172252Z
LAST-MODIFIED:20260125T172303Z
UID:10004492-1784133000-1784138400@fmg-nw.de
SUMMARY:Jungschar
DESCRIPTION:
URL:https://fmg-nw.de/event/jungschar-4-2/2026-07-15/
END:VEVENT
BEGIN:VEVENT
DTSTART;TZID=Europe/Berlin:20260722T163000
DTEND;TZID=Europe/Berlin:20260722T180000
DTSTAMP:20260421T102135
CREATED:20260125T172252Z
LAST-MODIFIED:20260125T172303Z
UID:10004493-1784737800-1784743200@fmg-nw.de
SUMMARY:Jungschar
DESCRIPTION:
URL:https://fmg-nw.de/event/jungschar-4-2/2026-07-22/
END:VEVENT
BEGIN:VEVENT
DTSTART;TZID=Europe/Berlin:20260729T163000
DTEND;TZID=Europe/Berlin:20260729T180000
DTSTAMP:20260421T102135
CREATED:20260125T172252Z
LAST-MODIFIED:20260125T172303Z
UID:10004494-1785342600-1785348000@fmg-nw.de
SUMMARY:Jungschar
DESCRIPTION:
URL:https://fmg-nw.de/event/jungschar-4-2/2026-07-29/
END:VEVENT
BEGIN:VEVENT
DTSTART;TZID=Europe/Berlin:20260805T163000
DTEND;TZID=Europe/Berlin:20260805T180000
DTSTAMP:20260421T102135
CREATED:20260125T172252Z
LAST-MODIFIED:20260125T172303Z
UID:10004495-1785947400-1785952800@fmg-nw.de
SUMMARY:Jungschar
DESCRIPTION:
URL:https://fmg-nw.de/event/jungschar-4-2/2026-08-05/
END:VEVENT
BEGIN:VEVENT
DTSTART;TZID=Europe/Berlin:20260812T163000
DTEND;TZID=Europe/Berlin:20260812T180000
DTSTAMP:20260421T102135
CREATED:20260125T172252Z
LAST-MODIFIED:20260125T172303Z
UID:10004496-1786552200-1786557600@fmg-nw.de
SUMMARY:Jungschar
DESCRIPTION:
URL:https://fmg-nw.de/event/jungschar-4-2/2026-08-12/
END:VEVENT
BEGIN:VEVENT
DTSTART;TZID=Europe/Berlin:20260819T163000
DTEND;TZID=Europe/Berlin:20260819T180000
DTSTAMP:20260421T102135
CREATED:20260125T172252Z
LAST-MODIFIED:20260125T172303Z
UID:10004497-1787157000-1787162400@fmg-nw.de
SUMMARY:Jungschar
DESCRIPTION:
URL:https://fmg-nw.de/event/jungschar-4-2/2026-08-19/
END:VEVENT
BEGIN:VEVENT
DTSTART;TZID=Europe/Berlin:20260826T163000
DTEND;TZID=Europe/Berlin:20260826T180000
DTSTAMP:20260421T102135
CREATED:20260125T172252Z
LAST-MODIFIED:20260125T172303Z
UID:10004498-1787761800-1787767200@fmg-nw.de
SUMMARY:Jungschar
DESCRIPTION:
URL:https://fmg-nw.de/event/jungschar-4-2/2026-08-26/
END:VEVENT
BEGIN:VEVENT
DTSTART;TZID=Europe/Berlin:20260902T163000
DTEND;TZID=Europe/Berlin:20260902T180000
DTSTAMP:20260421T102135
CREATED:20260125T172252Z
LAST-MODIFIED:20260125T172303Z
UID:10004499-1788366600-1788372000@fmg-nw.de
SUMMARY:Jungschar
DESCRIPTION:
URL:https://fmg-nw.de/event/jungschar-4-2/2026-09-02/
END:VEVENT
BEGIN:VEVENT
DTSTART;TZID=Europe/Berlin:20260909T163000
DTEND;TZID=Europe/Berlin:20260909T180000
DTSTAMP:20260421T102135
CREATED:20260125T172252Z
LAST-MODIFIED:20260125T172303Z
UID:10004500-1788971400-1788976800@fmg-nw.de
SUMMARY:Jungschar
DESCRIPTION:
URL:https://fmg-nw.de/event/jungschar-4-2/2026-09-09/
END:VEVENT
BEGIN:VEVENT
DTSTART;TZID=Europe/Berlin:20260916T163000
DTEND;TZID=Europe/Berlin:20260916T180000
DTSTAMP:20260421T102135
CREATED:20260125T172252Z
LAST-MODIFIED:20260125T172303Z
UID:10004501-1789576200-1789581600@fmg-nw.de
SUMMARY:Jungschar
DESCRIPTION:
URL:https://fmg-nw.de/event/jungschar-4-2/2026-09-16/
END:VEVENT
BEGIN:VEVENT
DTSTART;TZID=Europe/Berlin:20260923T163000
DTEND;TZID=Europe/Berlin:20260923T180000
DTSTAMP:20260421T102135
CREATED:20260125T172252Z
LAST-MODIFIED:20260125T172303Z
UID:10004502-1790181000-1790186400@fmg-nw.de
SUMMARY:Jungschar
DESCRIPTION:
URL:https://fmg-nw.de/event/jungschar-4-2/2026-09-23/
END:VEVENT
BEGIN:VEVENT
DTSTART;TZID=Europe/Berlin:20260930T163000
DTEND;TZID=Europe/Berlin:20260930T180000
DTSTAMP:20260421T102135
CREATED:20260125T172252Z
LAST-MODIFIED:20260125T172303Z
UID:10004503-1790785800-1790791200@fmg-nw.de
SUMMARY:Jungschar
DESCRIPTION:
URL:https://fmg-nw.de/event/jungschar-4-2/2026-09-30/
END:VEVENT
BEGIN:VEVENT
DTSTART;TZID=Europe/Berlin:20261007T163000
DTEND;TZID=Europe/Berlin:20261007T180000
DTSTAMP:20260421T102135
CREATED:20260125T172252Z
LAST-MODIFIED:20260125T172303Z
UID:10004504-1791390600-1791396000@fmg-nw.de
SUMMARY:Jungschar
DESCRIPTION:
URL:https://fmg-nw.de/event/jungschar-4-2/2026-10-07/
END:VEVENT
BEGIN:VEVENT
DTSTART;TZID=Europe/Berlin:20261014T163000
DTEND;TZID=Europe/Berlin:20261014T180000
DTSTAMP:20260421T102135
CREATED:20260125T172252Z
LAST-MODIFIED:20260125T172303Z
UID:10004505-1791995400-1792000800@fmg-nw.de
SUMMARY:Jungschar
DESCRIPTION:
URL:https://fmg-nw.de/event/jungschar-4-2/2026-10-14/
END:VEVENT
BEGIN:VEVENT
DTSTART;TZID=Europe/Berlin:20261021T163000
DTEND;TZID=Europe/Berlin:20261021T180000
DTSTAMP:20260421T102135
CREATED:20260125T172252Z
LAST-MODIFIED:20260125T172303Z
UID:10004506-1792600200-1792605600@fmg-nw.de
SUMMARY:Jungschar
DESCRIPTION:
URL:https://fmg-nw.de/event/jungschar-4-2/2026-10-21/
END:VEVENT
BEGIN:VEVENT
DTSTART;TZID=Europe/Berlin:20261028T163000
DTEND;TZID=Europe/Berlin:20261028T180000
DTSTAMP:20260421T102135
CREATED:20260125T172252Z
LAST-MODIFIED:20260125T172303Z
UID:10004507-1793205000-1793210400@fmg-nw.de
SUMMARY:Jungschar
DESCRIPTION:
URL:https://fmg-nw.de/event/jungschar-4-2/2026-10-28/
END:VEVENT
BEGIN:VEVENT
DTSTART;TZID=Europe/Berlin:20261104T163000
DTEND;TZID=Europe/Berlin:20261104T180000
DTSTAMP:20260421T102135
CREATED:20260125T172252Z
LAST-MODIFIED:20260125T172303Z
UID:10004508-1793809800-1793815200@fmg-nw.de
SUMMARY:Jungschar
DESCRIPTION:
URL:https://fmg-nw.de/event/jungschar-4-2/2026-11-04/
END:VEVENT
BEGIN:VEVENT
DTSTART;TZID=Europe/Berlin:20261111T163000
DTEND;TZID=Europe/Berlin:20261111T180000
DTSTAMP:20260421T102135
CREATED:20260125T172252Z
LAST-MODIFIED:20260125T172303Z
UID:10004509-1794414600-1794420000@fmg-nw.de
SUMMARY:Jungschar
DESCRIPTION:
URL:https://fmg-nw.de/event/jungschar-4-2/2026-11-11/
END:VEVENT
END:VCALENDAR