BEGIN:VCALENDAR
VERSION:2.0
PRODID:-//Freie Missionsgemeinde Neckarweihingen - ECPv6.15.12.2//NONSGML v1.0//EN
CALSCALE:GREGORIAN
METHOD:PUBLISH
X-WR-CALNAME:Freie Missionsgemeinde Neckarweihingen
X-ORIGINAL-URL:https://fmg-nw.de
X-WR-CALDESC:Veranstaltungen für Freie Missionsgemeinde Neckarweihingen
REFRESH-INTERVAL;VALUE=DURATION:PT1H
X-Robots-Tag:noindex
X-PUBLISHED-TTL:PT1H
BEGIN:VTIMEZONE
TZID:Europe/Berlin
BEGIN:DAYLIGHT
TZOFFSETFROM:+0100
TZOFFSETTO:+0200
TZNAME:CEST
DTSTART:20250330T010000
END:DAYLIGHT
BEGIN:STANDARD
TZOFFSETFROM:+0200
TZOFFSETTO:+0100
TZNAME:CET
DTSTART:20251026T010000
END:STANDARD
BEGIN:DAYLIGHT
TZOFFSETFROM:+0100
TZOFFSETTO:+0200
TZNAME:CEST
DTSTART:20260329T010000
END:DAYLIGHT
BEGIN:STANDARD
TZOFFSETFROM:+0200
TZOFFSETTO:+0100
TZNAME:CET
DTSTART:20261025T010000
END:STANDARD
BEGIN:DAYLIGHT
TZOFFSETFROM:+0100
TZOFFSETTO:+0200
TZNAME:CEST
DTSTART:20270328T010000
END:DAYLIGHT
BEGIN:STANDARD
TZOFFSETFROM:+0200
TZOFFSETTO:+0100
TZNAME:CET
DTSTART:20271031T010000
END:STANDARD
END:VTIMEZONE
BEGIN:VEVENT
DTSTART;TZID=Europe/Berlin:20260424T190000
DTEND;TZID=Europe/Berlin:20260424T210000
DTSTAMP:20260421T113250
CREATED:20260125T172027Z
LAST-MODIFIED:20260125T172040Z
UID:10003962-1777057200-1777064400@fmg-nw.de
SUMMARY:JON
DESCRIPTION:Rückbestätigung bei Florian Wolf Tel 0176-83589037
URL:https://fmg-nw.de/event/jon-4-2/2026-04-24/
END:VEVENT
BEGIN:VEVENT
DTSTART;TZID=Europe/Berlin:20260501T190000
DTEND;TZID=Europe/Berlin:20260501T210000
DTSTAMP:20260421T113250
CREATED:20260125T172027Z
LAST-MODIFIED:20260125T172040Z
UID:10003963-1777662000-1777669200@fmg-nw.de
SUMMARY:JON
DESCRIPTION:Rückbestätigung bei Florian Wolf Tel 0176-83589037
URL:https://fmg-nw.de/event/jon-4-2/2026-05-01/
END:VEVENT
BEGIN:VEVENT
DTSTART;TZID=Europe/Berlin:20260508T190000
DTEND;TZID=Europe/Berlin:20260508T210000
DTSTAMP:20260421T113250
CREATED:20260125T172027Z
LAST-MODIFIED:20260125T172040Z
UID:10003964-1778266800-1778274000@fmg-nw.de
SUMMARY:JON
DESCRIPTION:Rückbestätigung bei Florian Wolf Tel 0176-83589037
URL:https://fmg-nw.de/event/jon-4-2/2026-05-08/
END:VEVENT
BEGIN:VEVENT
DTSTART;TZID=Europe/Berlin:20260515T190000
DTEND;TZID=Europe/Berlin:20260515T210000
DTSTAMP:20260421T113250
CREATED:20260125T172027Z
LAST-MODIFIED:20260125T172040Z
UID:10003965-1778871600-1778878800@fmg-nw.de
SUMMARY:JON
DESCRIPTION:Rückbestätigung bei Florian Wolf Tel 0176-83589037
URL:https://fmg-nw.de/event/jon-4-2/2026-05-15/
END:VEVENT
BEGIN:VEVENT
DTSTART;TZID=Europe/Berlin:20260522T190000
DTEND;TZID=Europe/Berlin:20260522T210000
DTSTAMP:20260421T113250
CREATED:20260125T172027Z
LAST-MODIFIED:20260125T172040Z
UID:10003966-1779476400-1779483600@fmg-nw.de
SUMMARY:JON
DESCRIPTION:Rückbestätigung bei Florian Wolf Tel 0176-83589037
URL:https://fmg-nw.de/event/jon-4-2/2026-05-22/
END:VEVENT
BEGIN:VEVENT
DTSTART;TZID=Europe/Berlin:20260529T190000
DTEND;TZID=Europe/Berlin:20260529T210000
DTSTAMP:20260421T113250
CREATED:20260125T172027Z
LAST-MODIFIED:20260125T172040Z
UID:10003967-1780081200-1780088400@fmg-nw.de
SUMMARY:JON
DESCRIPTION:Rückbestätigung bei Florian Wolf Tel 0176-83589037
URL:https://fmg-nw.de/event/jon-4-2/2026-05-29/
END:VEVENT
BEGIN:VEVENT
DTSTART;TZID=Europe/Berlin:20260605T190000
DTEND;TZID=Europe/Berlin:20260605T210000
DTSTAMP:20260421T113250
CREATED:20260125T172027Z
LAST-MODIFIED:20260125T172040Z
UID:10003968-1780686000-1780693200@fmg-nw.de
SUMMARY:JON
DESCRIPTION:Rückbestätigung bei Florian Wolf Tel 0176-83589037
URL:https://fmg-nw.de/event/jon-4-2/2026-06-05/
END:VEVENT
BEGIN:VEVENT
DTSTART;TZID=Europe/Berlin:20260612T190000
DTEND;TZID=Europe/Berlin:20260612T210000
DTSTAMP:20260421T113250
CREATED:20260125T172027Z
LAST-MODIFIED:20260125T172040Z
UID:10003969-1781290800-1781298000@fmg-nw.de
SUMMARY:JON
DESCRIPTION:Rückbestätigung bei Florian Wolf Tel 0176-83589037
URL:https://fmg-nw.de/event/jon-4-2/2026-06-12/
END:VEVENT
BEGIN:VEVENT
DTSTART;TZID=Europe/Berlin:20260619T190000
DTEND;TZID=Europe/Berlin:20260619T210000
DTSTAMP:20260421T113250
CREATED:20260125T172027Z
LAST-MODIFIED:20260125T172040Z
UID:10003970-1781895600-1781902800@fmg-nw.de
SUMMARY:JON
DESCRIPTION:Rückbestätigung bei Florian Wolf Tel 0176-83589037
URL:https://fmg-nw.de/event/jon-4-2/2026-06-19/
END:VEVENT
BEGIN:VEVENT
DTSTART;TZID=Europe/Berlin:20260626T190000
DTEND;TZID=Europe/Berlin:20260626T210000
DTSTAMP:20260421T113250
CREATED:20260125T172027Z
LAST-MODIFIED:20260125T172040Z
UID:10003971-1782500400-1782507600@fmg-nw.de
SUMMARY:JON
DESCRIPTION:Rückbestätigung bei Florian Wolf Tel 0176-83589037
URL:https://fmg-nw.de/event/jon-4-2/2026-06-26/
END:VEVENT
BEGIN:VEVENT
DTSTART;TZID=Europe/Berlin:20260703T190000
DTEND;TZID=Europe/Berlin:20260703T210000
DTSTAMP:20260421T113250
CREATED:20260125T172027Z
LAST-MODIFIED:20260125T172040Z
UID:10003972-1783105200-1783112400@fmg-nw.de
SUMMARY:JON
DESCRIPTION:Rückbestätigung bei Florian Wolf Tel 0176-83589037
URL:https://fmg-nw.de/event/jon-4-2/2026-07-03/
END:VEVENT
BEGIN:VEVENT
DTSTART;TZID=Europe/Berlin:20260710T190000
DTEND;TZID=Europe/Berlin:20260710T210000
DTSTAMP:20260421T113250
CREATED:20260125T172027Z
LAST-MODIFIED:20260125T172040Z
UID:10003973-1783710000-1783717200@fmg-nw.de
SUMMARY:JON
DESCRIPTION:Rückbestätigung bei Florian Wolf Tel 0176-83589037
URL:https://fmg-nw.de/event/jon-4-2/2026-07-10/
END:VEVENT
BEGIN:VEVENT
DTSTART;TZID=Europe/Berlin:20260717T190000
DTEND;TZID=Europe/Berlin:20260717T210000
DTSTAMP:20260421T113250
CREATED:20260125T172027Z
LAST-MODIFIED:20260125T172040Z
UID:10003974-1784314800-1784322000@fmg-nw.de
SUMMARY:JON
DESCRIPTION:Rückbestätigung bei Florian Wolf Tel 0176-83589037
URL:https://fmg-nw.de/event/jon-4-2/2026-07-17/
END:VEVENT
BEGIN:VEVENT
DTSTART;TZID=Europe/Berlin:20260724T190000
DTEND;TZID=Europe/Berlin:20260724T210000
DTSTAMP:20260421T113250
CREATED:20260125T172027Z
LAST-MODIFIED:20260125T172040Z
UID:10003975-1784919600-1784926800@fmg-nw.de
SUMMARY:JON
DESCRIPTION:Rückbestätigung bei Florian Wolf Tel 0176-83589037
URL:https://fmg-nw.de/event/jon-4-2/2026-07-24/
END:VEVENT
BEGIN:VEVENT
DTSTART;TZID=Europe/Berlin:20260731T190000
DTEND;TZID=Europe/Berlin:20260731T210000
DTSTAMP:20260421T113250
CREATED:20260125T172027Z
LAST-MODIFIED:20260125T172040Z
UID:10003976-1785524400-1785531600@fmg-nw.de
SUMMARY:JON
DESCRIPTION:Rückbestätigung bei Florian Wolf Tel 0176-83589037
URL:https://fmg-nw.de/event/jon-4-2/2026-07-31/
END:VEVENT
BEGIN:VEVENT
DTSTART;TZID=Europe/Berlin:20260807T190000
DTEND;TZID=Europe/Berlin:20260807T210000
DTSTAMP:20260421T113250
CREATED:20260125T172027Z
LAST-MODIFIED:20260125T172040Z
UID:10003977-1786129200-1786136400@fmg-nw.de
SUMMARY:JON
DESCRIPTION:Rückbestätigung bei Florian Wolf Tel 0176-83589037
URL:https://fmg-nw.de/event/jon-4-2/2026-08-07/
END:VEVENT
BEGIN:VEVENT
DTSTART;TZID=Europe/Berlin:20260814T190000
DTEND;TZID=Europe/Berlin:20260814T210000
DTSTAMP:20260421T113250
CREATED:20260125T172027Z
LAST-MODIFIED:20260125T172040Z
UID:10003978-1786734000-1786741200@fmg-nw.de
SUMMARY:JON
DESCRIPTION:Rückbestätigung bei Florian Wolf Tel 0176-83589037
URL:https://fmg-nw.de/event/jon-4-2/2026-08-14/
END:VEVENT
BEGIN:VEVENT
DTSTART;TZID=Europe/Berlin:20260821T190000
DTEND;TZID=Europe/Berlin:20260821T210000
DTSTAMP:20260421T113250
CREATED:20260125T172027Z
LAST-MODIFIED:20260125T172040Z
UID:10003979-1787338800-1787346000@fmg-nw.de
SUMMARY:JON
DESCRIPTION:Rückbestätigung bei Florian Wolf Tel 0176-83589037
URL:https://fmg-nw.de/event/jon-4-2/2026-08-21/
END:VEVENT
BEGIN:VEVENT
DTSTART;TZID=Europe/Berlin:20260828T190000
DTEND;TZID=Europe/Berlin:20260828T210000
DTSTAMP:20260421T113250
CREATED:20260125T172027Z
LAST-MODIFIED:20260125T172040Z
UID:10003980-1787943600-1787950800@fmg-nw.de
SUMMARY:JON
DESCRIPTION:Rückbestätigung bei Florian Wolf Tel 0176-83589037
URL:https://fmg-nw.de/event/jon-4-2/2026-08-28/
END:VEVENT
BEGIN:VEVENT
DTSTART;TZID=Europe/Berlin:20260904T190000
DTEND;TZID=Europe/Berlin:20260904T210000
DTSTAMP:20260421T113250
CREATED:20260125T172027Z
LAST-MODIFIED:20260125T172040Z
UID:10003981-1788548400-1788555600@fmg-nw.de
SUMMARY:JON
DESCRIPTION:Rückbestätigung bei Florian Wolf Tel 0176-83589037
URL:https://fmg-nw.de/event/jon-4-2/2026-09-04/
END:VEVENT
BEGIN:VEVENT
DTSTART;TZID=Europe/Berlin:20260911T190000
DTEND;TZID=Europe/Berlin:20260911T210000
DTSTAMP:20260421T113250
CREATED:20260125T172027Z
LAST-MODIFIED:20260125T172040Z
UID:10003982-1789153200-1789160400@fmg-nw.de
SUMMARY:JON
DESCRIPTION:Rückbestätigung bei Florian Wolf Tel 0176-83589037
URL:https://fmg-nw.de/event/jon-4-2/2026-09-11/
END:VEVENT
BEGIN:VEVENT
DTSTART;TZID=Europe/Berlin:20260918T190000
DTEND;TZID=Europe/Berlin:20260918T210000
DTSTAMP:20260421T113250
CREATED:20260125T172027Z
LAST-MODIFIED:20260125T172040Z
UID:10003983-1789758000-1789765200@fmg-nw.de
SUMMARY:JON
DESCRIPTION:Rückbestätigung bei Florian Wolf Tel 0176-83589037
URL:https://fmg-nw.de/event/jon-4-2/2026-09-18/
END:VEVENT
BEGIN:VEVENT
DTSTART;TZID=Europe/Berlin:20260925T190000
DTEND;TZID=Europe/Berlin:20260925T210000
DTSTAMP:20260421T113250
CREATED:20260125T172027Z
LAST-MODIFIED:20260125T172040Z
UID:10003984-1790362800-1790370000@fmg-nw.de
SUMMARY:JON
DESCRIPTION:Rückbestätigung bei Florian Wolf Tel 0176-83589037
URL:https://fmg-nw.de/event/jon-4-2/2026-09-25/
END:VEVENT
BEGIN:VEVENT
DTSTART;TZID=Europe/Berlin:20261002T190000
DTEND;TZID=Europe/Berlin:20261002T210000
DTSTAMP:20260421T113250
CREATED:20260125T172027Z
LAST-MODIFIED:20260125T172040Z
UID:10003985-1790967600-1790974800@fmg-nw.de
SUMMARY:JON
DESCRIPTION:Rückbestätigung bei Florian Wolf Tel 0176-83589037
URL:https://fmg-nw.de/event/jon-4-2/2026-10-02/
END:VEVENT
BEGIN:VEVENT
DTSTART;TZID=Europe/Berlin:20261009T190000
DTEND;TZID=Europe/Berlin:20261009T210000
DTSTAMP:20260421T113250
CREATED:20260125T172027Z
LAST-MODIFIED:20260125T172040Z
UID:10003986-1791572400-1791579600@fmg-nw.de
SUMMARY:JON
DESCRIPTION:Rückbestätigung bei Florian Wolf Tel 0176-83589037
URL:https://fmg-nw.de/event/jon-4-2/2026-10-09/
END:VEVENT
BEGIN:VEVENT
DTSTART;TZID=Europe/Berlin:20261016T190000
DTEND;TZID=Europe/Berlin:20261016T210000
DTSTAMP:20260421T113250
CREATED:20260125T172027Z
LAST-MODIFIED:20260125T172040Z
UID:10003987-1792177200-1792184400@fmg-nw.de
SUMMARY:JON
DESCRIPTION:Rückbestätigung bei Florian Wolf Tel 0176-83589037
URL:https://fmg-nw.de/event/jon-4-2/2026-10-16/
END:VEVENT
BEGIN:VEVENT
DTSTART;TZID=Europe/Berlin:20261023T190000
DTEND;TZID=Europe/Berlin:20261023T210000
DTSTAMP:20260421T113250
CREATED:20260125T172027Z
LAST-MODIFIED:20260125T172040Z
UID:10003988-1792782000-1792789200@fmg-nw.de
SUMMARY:JON
DESCRIPTION:Rückbestätigung bei Florian Wolf Tel 0176-83589037
URL:https://fmg-nw.de/event/jon-4-2/2026-10-23/
END:VEVENT
BEGIN:VEVENT
DTSTART;TZID=Europe/Berlin:20261030T190000
DTEND;TZID=Europe/Berlin:20261030T210000
DTSTAMP:20260421T113250
CREATED:20260125T172027Z
LAST-MODIFIED:20260125T172040Z
UID:10003989-1793386800-1793394000@fmg-nw.de
SUMMARY:JON
DESCRIPTION:Rückbestätigung bei Florian Wolf Tel 0176-83589037
URL:https://fmg-nw.de/event/jon-4-2/2026-10-30/
END:VEVENT
BEGIN:VEVENT
DTSTART;TZID=Europe/Berlin:20261106T190000
DTEND;TZID=Europe/Berlin:20261106T210000
DTSTAMP:20260421T113250
CREATED:20260125T172027Z
LAST-MODIFIED:20260125T172040Z
UID:10003990-1793991600-1793998800@fmg-nw.de
SUMMARY:JON
DESCRIPTION:Rückbestätigung bei Florian Wolf Tel 0176-83589037
URL:https://fmg-nw.de/event/jon-4-2/2026-11-06/
END:VEVENT
BEGIN:VEVENT
DTSTART;TZID=Europe/Berlin:20261113T190000
DTEND;TZID=Europe/Berlin:20261113T210000
DTSTAMP:20260421T113250
CREATED:20260125T172027Z
LAST-MODIFIED:20260125T172040Z
UID:10003991-1794596400-1794603600@fmg-nw.de
SUMMARY:JON
DESCRIPTION:Rückbestätigung bei Florian Wolf Tel 0176-83589037
URL:https://fmg-nw.de/event/jon-4-2/2026-11-13/
END:VEVENT
END:VCALENDAR