BEGIN:VCALENDAR
VERSION:2.0
PRODID:-//Freie Missionsgemeinde Neckarweihingen - ECPv6.15.12.2//NONSGML v1.0//EN
CALSCALE:GREGORIAN
METHOD:PUBLISH
X-WR-CALNAME:Freie Missionsgemeinde Neckarweihingen
X-ORIGINAL-URL:https://fmg-nw.de
X-WR-CALDESC:Veranstaltungen für Freie Missionsgemeinde Neckarweihingen
REFRESH-INTERVAL;VALUE=DURATION:PT1H
X-Robots-Tag:noindex
X-PUBLISHED-TTL:PT1H
BEGIN:VTIMEZONE
TZID:Europe/Berlin
BEGIN:DAYLIGHT
TZOFFSETFROM:+0100
TZOFFSETTO:+0200
TZNAME:CEST
DTSTART:20250330T010000
END:DAYLIGHT
BEGIN:STANDARD
TZOFFSETFROM:+0200
TZOFFSETTO:+0100
TZNAME:CET
DTSTART:20251026T010000
END:STANDARD
BEGIN:DAYLIGHT
TZOFFSETFROM:+0100
TZOFFSETTO:+0200
TZNAME:CEST
DTSTART:20260329T010000
END:DAYLIGHT
BEGIN:STANDARD
TZOFFSETFROM:+0200
TZOFFSETTO:+0100
TZNAME:CET
DTSTART:20261025T010000
END:STANDARD
BEGIN:DAYLIGHT
TZOFFSETFROM:+0100
TZOFFSETTO:+0200
TZNAME:CEST
DTSTART:20270328T010000
END:DAYLIGHT
BEGIN:STANDARD
TZOFFSETFROM:+0200
TZOFFSETTO:+0100
TZNAME:CET
DTSTART:20271031T010000
END:STANDARD
BEGIN:DAYLIGHT
TZOFFSETFROM:+0100
TZOFFSETTO:+0200
TZNAME:CEST
DTSTART:20280326T010000
END:DAYLIGHT
BEGIN:STANDARD
TZOFFSETFROM:+0200
TZOFFSETTO:+0100
TZNAME:CET
DTSTART:20281029T010000
END:STANDARD
END:VTIMEZONE
BEGIN:VEVENT
DTSTART;TZID=Europe/Berlin:20261122T100000
DTEND;TZID=Europe/Berlin:20261122T113000
DTSTAMP:20260422T032249
CREATED:20260125T171531Z
LAST-MODIFIED:20260125T171531Z
UID:10004774-1795341600-1795347000@fmg-nw.de
SUMMARY:Gottesdienst
DESCRIPTION:
URL:https://fmg-nw.de/event/gottesdienst-5-2-3-2/2026-11-22/
END:VEVENT
BEGIN:VEVENT
DTSTART;TZID=Europe/Berlin:20261125T163000
DTEND;TZID=Europe/Berlin:20261125T180000
DTSTAMP:20260422T032249
CREATED:20260125T172252Z
LAST-MODIFIED:20260125T172303Z
UID:10004511-1795624200-1795629600@fmg-nw.de
SUMMARY:Jungschar
DESCRIPTION:
URL:https://fmg-nw.de/event/jungschar-4-2/2026-11-25/
END:VEVENT
BEGIN:VEVENT
DTSTART;TZID=Europe/Berlin:20261125T193000
DTEND;TZID=Europe/Berlin:20261125T210000
DTSTAMP:20260422T032249
CREATED:20260125T172212Z
LAST-MODIFIED:20260131T130459Z
UID:10004252-1795635000-1795640400@fmg-nw.de
SUMMARY:Bibelkreis
DESCRIPTION:
URL:https://fmg-nw.de/event/bibelkreis-4-2/2026-11-25/
END:VEVENT
BEGIN:VEVENT
DTSTART;TZID=Europe/Berlin:20261127T190000
DTEND;TZID=Europe/Berlin:20261127T210000
DTSTAMP:20260422T032249
CREATED:20260125T172027Z
LAST-MODIFIED:20260125T172040Z
UID:10003993-1795806000-1795813200@fmg-nw.de
SUMMARY:JON
DESCRIPTION:Rückbestätigung bei Florian Wolf Tel 0176-83589037
URL:https://fmg-nw.de/event/jon-4-2/2026-11-27/
END:VEVENT
BEGIN:VEVENT
DTSTART;TZID=Europe/Berlin:20261129T100000
DTEND;TZID=Europe/Berlin:20261129T113000
DTSTAMP:20260422T032249
CREATED:20260125T171531Z
LAST-MODIFIED:20260125T171623Z
UID:10003735-1795946400-1795951800@fmg-nw.de
SUMMARY:Gottesdienst
DESCRIPTION:
URL:https://fmg-nw.de/event/gottesdienst-5-2-3/2026-11-29/
END:VEVENT
BEGIN:VEVENT
DTSTART;TZID=Europe/Berlin:20261129T100000
DTEND;TZID=Europe/Berlin:20261129T113000
DTSTAMP:20260422T032249
CREATED:20260125T171531Z
LAST-MODIFIED:20260125T171531Z
UID:10004775-1795946400-1795951800@fmg-nw.de
SUMMARY:Gottesdienst
DESCRIPTION:
URL:https://fmg-nw.de/event/gottesdienst-5-2-3-2/2026-11-29/
END:VEVENT
BEGIN:VEVENT
DTSTART;TZID=Europe/Berlin:20261202T163000
DTEND;TZID=Europe/Berlin:20261202T180000
DTSTAMP:20260422T032249
CREATED:20260125T172252Z
LAST-MODIFIED:20260125T172303Z
UID:10004512-1796229000-1796234400@fmg-nw.de
SUMMARY:Jungschar
DESCRIPTION:
URL:https://fmg-nw.de/event/jungschar-4-2/2026-12-02/
END:VEVENT
BEGIN:VEVENT
DTSTART;TZID=Europe/Berlin:20261202T193000
DTEND;TZID=Europe/Berlin:20261202T210000
DTSTAMP:20260422T032249
CREATED:20260125T172212Z
LAST-MODIFIED:20260131T130459Z
UID:10004253-1796239800-1796245200@fmg-nw.de
SUMMARY:Bibelkreis
DESCRIPTION:
URL:https://fmg-nw.de/event/bibelkreis-4-2/2026-12-02/
END:VEVENT
BEGIN:VEVENT
DTSTART;TZID=Europe/Berlin:20261204T190000
DTEND;TZID=Europe/Berlin:20261204T210000
DTSTAMP:20260422T032249
CREATED:20260125T172027Z
LAST-MODIFIED:20260125T172040Z
UID:10003994-1796410800-1796418000@fmg-nw.de
SUMMARY:JON
DESCRIPTION:Rückbestätigung bei Florian Wolf Tel 0176-83589037
URL:https://fmg-nw.de/event/jon-4-2/2026-12-04/
END:VEVENT
BEGIN:VEVENT
DTSTART;TZID=Europe/Berlin:20261206T100000
DTEND;TZID=Europe/Berlin:20261206T113000
DTSTAMP:20260422T032249
CREATED:20260125T171531Z
LAST-MODIFIED:20260125T171623Z
UID:10003736-1796551200-1796556600@fmg-nw.de
SUMMARY:Gottesdienst
DESCRIPTION:
URL:https://fmg-nw.de/event/gottesdienst-5-2-3/2026-12-06/
END:VEVENT
BEGIN:VEVENT
DTSTART;TZID=Europe/Berlin:20261206T100000
DTEND;TZID=Europe/Berlin:20261206T113000
DTSTAMP:20260422T032249
CREATED:20260125T171531Z
LAST-MODIFIED:20260125T171531Z
UID:10004776-1796551200-1796556600@fmg-nw.de
SUMMARY:Gottesdienst
DESCRIPTION:
URL:https://fmg-nw.de/event/gottesdienst-5-2-3-2/2026-12-06/
END:VEVENT
BEGIN:VEVENT
DTSTART;TZID=Europe/Berlin:20261209T163000
DTEND;TZID=Europe/Berlin:20261209T180000
DTSTAMP:20260422T032249
CREATED:20260125T172252Z
LAST-MODIFIED:20260125T172303Z
UID:10004513-1796833800-1796839200@fmg-nw.de
SUMMARY:Jungschar
DESCRIPTION:
URL:https://fmg-nw.de/event/jungschar-4-2/2026-12-09/
END:VEVENT
BEGIN:VEVENT
DTSTART;TZID=Europe/Berlin:20261209T193000
DTEND;TZID=Europe/Berlin:20261209T210000
DTSTAMP:20260422T032249
CREATED:20260125T172212Z
LAST-MODIFIED:20260131T130459Z
UID:10004254-1796844600-1796850000@fmg-nw.de
SUMMARY:Bibelkreis
DESCRIPTION:
URL:https://fmg-nw.de/event/bibelkreis-4-2/2026-12-09/
END:VEVENT
BEGIN:VEVENT
DTSTART;TZID=Europe/Berlin:20261211T190000
DTEND;TZID=Europe/Berlin:20261211T210000
DTSTAMP:20260422T032249
CREATED:20260125T172027Z
LAST-MODIFIED:20260125T172040Z
UID:10003995-1797015600-1797022800@fmg-nw.de
SUMMARY:JON
DESCRIPTION:Rückbestätigung bei Florian Wolf Tel 0176-83589037
URL:https://fmg-nw.de/event/jon-4-2/2026-12-11/
END:VEVENT
BEGIN:VEVENT
DTSTART;TZID=Europe/Berlin:20261213T100000
DTEND;TZID=Europe/Berlin:20261213T113000
DTSTAMP:20260422T032249
CREATED:20260125T171531Z
LAST-MODIFIED:20260125T171623Z
UID:10003737-1797156000-1797161400@fmg-nw.de
SUMMARY:Gottesdienst
DESCRIPTION:
URL:https://fmg-nw.de/event/gottesdienst-5-2-3/2026-12-13/
END:VEVENT
BEGIN:VEVENT
DTSTART;TZID=Europe/Berlin:20261213T100000
DTEND;TZID=Europe/Berlin:20261213T113000
DTSTAMP:20260422T032249
CREATED:20260125T171531Z
LAST-MODIFIED:20260125T171531Z
UID:10004777-1797156000-1797161400@fmg-nw.de
SUMMARY:Gottesdienst
DESCRIPTION:
URL:https://fmg-nw.de/event/gottesdienst-5-2-3-2/2026-12-13/
END:VEVENT
BEGIN:VEVENT
DTSTART;TZID=Europe/Berlin:20261216T163000
DTEND;TZID=Europe/Berlin:20261216T180000
DTSTAMP:20260422T032249
CREATED:20260125T172252Z
LAST-MODIFIED:20260125T172303Z
UID:10004514-1797438600-1797444000@fmg-nw.de
SUMMARY:Jungschar
DESCRIPTION:
URL:https://fmg-nw.de/event/jungschar-4-2/2026-12-16/
END:VEVENT
BEGIN:VEVENT
DTSTART;TZID=Europe/Berlin:20261216T193000
DTEND;TZID=Europe/Berlin:20261216T210000
DTSTAMP:20260422T032249
CREATED:20260125T172212Z
LAST-MODIFIED:20260131T130459Z
UID:10004255-1797449400-1797454800@fmg-nw.de
SUMMARY:Bibelkreis
DESCRIPTION:
URL:https://fmg-nw.de/event/bibelkreis-4-2/2026-12-16/
END:VEVENT
BEGIN:VEVENT
DTSTART;TZID=Europe/Berlin:20261218T190000
DTEND;TZID=Europe/Berlin:20261218T210000
DTSTAMP:20260422T032249
CREATED:20260125T172027Z
LAST-MODIFIED:20260125T172040Z
UID:10003996-1797620400-1797627600@fmg-nw.de
SUMMARY:JON
DESCRIPTION:Rückbestätigung bei Florian Wolf Tel 0176-83589037
URL:https://fmg-nw.de/event/jon-4-2/2026-12-18/
END:VEVENT
BEGIN:VEVENT
DTSTART;TZID=Europe/Berlin:20261220T100000
DTEND;TZID=Europe/Berlin:20261220T113000
DTSTAMP:20260422T032249
CREATED:20260125T171531Z
LAST-MODIFIED:20260125T171623Z
UID:10003738-1797760800-1797766200@fmg-nw.de
SUMMARY:Gottesdienst
DESCRIPTION:
URL:https://fmg-nw.de/event/gottesdienst-5-2-3/2026-12-20/
END:VEVENT
BEGIN:VEVENT
DTSTART;TZID=Europe/Berlin:20261220T100000
DTEND;TZID=Europe/Berlin:20261220T113000
DTSTAMP:20260422T032249
CREATED:20260125T171531Z
LAST-MODIFIED:20260125T171531Z
UID:10004778-1797760800-1797766200@fmg-nw.de
SUMMARY:Gottesdienst
DESCRIPTION:
URL:https://fmg-nw.de/event/gottesdienst-5-2-3-2/2026-12-20/
END:VEVENT
BEGIN:VEVENT
DTSTART;TZID=Europe/Berlin:20261223T163000
DTEND;TZID=Europe/Berlin:20261223T180000
DTSTAMP:20260422T032249
CREATED:20260125T172252Z
LAST-MODIFIED:20260125T172303Z
UID:10004515-1798043400-1798048800@fmg-nw.de
SUMMARY:Jungschar
DESCRIPTION:
URL:https://fmg-nw.de/event/jungschar-4-2/2026-12-23/
END:VEVENT
BEGIN:VEVENT
DTSTART;TZID=Europe/Berlin:20261223T193000
DTEND;TZID=Europe/Berlin:20261223T210000
DTSTAMP:20260422T032249
CREATED:20260125T172212Z
LAST-MODIFIED:20260131T130459Z
UID:10004256-1798054200-1798059600@fmg-nw.de
SUMMARY:Bibelkreis
DESCRIPTION:
URL:https://fmg-nw.de/event/bibelkreis-4-2/2026-12-23/
END:VEVENT
BEGIN:VEVENT
DTSTART;TZID=Europe/Berlin:20261225T190000
DTEND;TZID=Europe/Berlin:20261225T210000
DTSTAMP:20260422T032249
CREATED:20260125T172027Z
LAST-MODIFIED:20260125T172040Z
UID:10003997-1798225200-1798232400@fmg-nw.de
SUMMARY:JON
DESCRIPTION:Rückbestätigung bei Florian Wolf Tel 0176-83589037
URL:https://fmg-nw.de/event/jon-4-2/2026-12-25/
END:VEVENT
BEGIN:VEVENT
DTSTART;TZID=Europe/Berlin:20261227T100000
DTEND;TZID=Europe/Berlin:20261227T113000
DTSTAMP:20260422T032249
CREATED:20260125T171531Z
LAST-MODIFIED:20260125T171623Z
UID:10003739-1798365600-1798371000@fmg-nw.de
SUMMARY:Gottesdienst
DESCRIPTION:
URL:https://fmg-nw.de/event/gottesdienst-5-2-3/2026-12-27/
END:VEVENT
BEGIN:VEVENT
DTSTART;TZID=Europe/Berlin:20261227T100000
DTEND;TZID=Europe/Berlin:20261227T113000
DTSTAMP:20260422T032249
CREATED:20260125T171531Z
LAST-MODIFIED:20260125T171531Z
UID:10004779-1798365600-1798371000@fmg-nw.de
SUMMARY:Gottesdienst
DESCRIPTION:
URL:https://fmg-nw.de/event/gottesdienst-5-2-3-2/2026-12-27/
END:VEVENT
BEGIN:VEVENT
DTSTART;TZID=Europe/Berlin:20261230T163000
DTEND;TZID=Europe/Berlin:20261230T180000
DTSTAMP:20260422T032249
CREATED:20260125T172252Z
LAST-MODIFIED:20260125T172303Z
UID:10004516-1798648200-1798653600@fmg-nw.de
SUMMARY:Jungschar
DESCRIPTION:
URL:https://fmg-nw.de/event/jungschar-4-2/2026-12-30/
END:VEVENT
BEGIN:VEVENT
DTSTART;TZID=Europe/Berlin:20261230T193000
DTEND;TZID=Europe/Berlin:20261230T210000
DTSTAMP:20260422T032249
CREATED:20260125T172212Z
LAST-MODIFIED:20260131T130459Z
UID:10004257-1798659000-1798664400@fmg-nw.de
SUMMARY:Bibelkreis
DESCRIPTION:
URL:https://fmg-nw.de/event/bibelkreis-4-2/2026-12-30/
END:VEVENT
BEGIN:VEVENT
DTSTART;TZID=Europe/Berlin:20270101T190000
DTEND;TZID=Europe/Berlin:20270101T210000
DTSTAMP:20260422T032249
CREATED:20260125T172027Z
LAST-MODIFIED:20260125T172040Z
UID:10003998-1798830000-1798837200@fmg-nw.de
SUMMARY:JON
DESCRIPTION:Rückbestätigung bei Florian Wolf Tel 0176-83589037
URL:https://fmg-nw.de/event/jon-4-2/2027-01-01/
END:VEVENT
BEGIN:VEVENT
DTSTART;TZID=Europe/Berlin:20270103T100000
DTEND;TZID=Europe/Berlin:20270103T113000
DTSTAMP:20260422T032249
CREATED:20260125T171531Z
LAST-MODIFIED:20260125T171623Z
UID:10003740-1798970400-1798975800@fmg-nw.de
SUMMARY:Gottesdienst
DESCRIPTION:
URL:https://fmg-nw.de/event/gottesdienst-5-2-3/2027-01-03/
END:VEVENT
END:VCALENDAR