BEGIN:VCALENDAR
VERSION:2.0
PRODID:-//Freie Missionsgemeinde Neckarweihingen - ECPv6.15.12.2//NONSGML v1.0//EN
CALSCALE:GREGORIAN
METHOD:PUBLISH
X-WR-CALNAME:Freie Missionsgemeinde Neckarweihingen
X-ORIGINAL-URL:https://fmg-nw.de
X-WR-CALDESC:Veranstaltungen für Freie Missionsgemeinde Neckarweihingen
REFRESH-INTERVAL;VALUE=DURATION:PT1H
X-Robots-Tag:noindex
X-PUBLISHED-TTL:PT1H
BEGIN:VTIMEZONE
TZID:Europe/Berlin
BEGIN:DAYLIGHT
TZOFFSETFROM:+0100
TZOFFSETTO:+0200
TZNAME:CEST
DTSTART:20260329T010000
END:DAYLIGHT
BEGIN:STANDARD
TZOFFSETFROM:+0200
TZOFFSETTO:+0100
TZNAME:CET
DTSTART:20261025T010000
END:STANDARD
BEGIN:DAYLIGHT
TZOFFSETFROM:+0100
TZOFFSETTO:+0200
TZNAME:CEST
DTSTART:20270328T010000
END:DAYLIGHT
BEGIN:STANDARD
TZOFFSETFROM:+0200
TZOFFSETTO:+0100
TZNAME:CET
DTSTART:20271031T010000
END:STANDARD
BEGIN:DAYLIGHT
TZOFFSETFROM:+0100
TZOFFSETTO:+0200
TZNAME:CEST
DTSTART:20280326T010000
END:DAYLIGHT
BEGIN:STANDARD
TZOFFSETFROM:+0200
TZOFFSETTO:+0100
TZNAME:CET
DTSTART:20281029T010000
END:STANDARD
END:VTIMEZONE
BEGIN:VEVENT
DTSTART;TZID=Europe/Berlin:20270307T100000
DTEND;TZID=Europe/Berlin:20270307T113000
DTSTAMP:20260424T113014
CREATED:20260125T171531Z
LAST-MODIFIED:20260125T171531Z
UID:10004789-1804413600-1804419000@fmg-nw.de
SUMMARY:Gottesdienst
DESCRIPTION:
URL:https://fmg-nw.de/event/gottesdienst-5-2-3-2/2027-03-07/
END:VEVENT
BEGIN:VEVENT
DTSTART;TZID=Europe/Berlin:20270307T100000
DTEND;TZID=Europe/Berlin:20270307T113000
DTSTAMP:20260424T113014
CREATED:20260125T171531Z
LAST-MODIFIED:20260125T171623Z
UID:10003749-1804413600-1804419000@fmg-nw.de
SUMMARY:Gottesdienst
DESCRIPTION:
URL:https://fmg-nw.de/event/gottesdienst-5-2-3/2027-03-07/
END:VEVENT
BEGIN:VEVENT
DTSTART;TZID=Europe/Berlin:20270310T163000
DTEND;TZID=Europe/Berlin:20270310T180000
DTSTAMP:20260424T113014
CREATED:20260125T172252Z
LAST-MODIFIED:20260125T172303Z
UID:10004526-1804696200-1804701600@fmg-nw.de
SUMMARY:Jungschar
DESCRIPTION:
URL:https://fmg-nw.de/event/jungschar-4-2/2027-03-10/
END:VEVENT
BEGIN:VEVENT
DTSTART;TZID=Europe/Berlin:20270310T193000
DTEND;TZID=Europe/Berlin:20270310T210000
DTSTAMP:20260424T113014
CREATED:20260125T172212Z
LAST-MODIFIED:20260131T130459Z
UID:10004267-1804707000-1804712400@fmg-nw.de
SUMMARY:Bibelkreis
DESCRIPTION:
URL:https://fmg-nw.de/event/bibelkreis-4-2/2027-03-10/
END:VEVENT
BEGIN:VEVENT
DTSTART;TZID=Europe/Berlin:20270312T190000
DTEND;TZID=Europe/Berlin:20270312T210000
DTSTAMP:20260424T113014
CREATED:20260125T172027Z
LAST-MODIFIED:20260125T172040Z
UID:10004008-1804878000-1804885200@fmg-nw.de
SUMMARY:JON
DESCRIPTION:Rückbestätigung bei Florian Wolf Tel 0176-83589037
URL:https://fmg-nw.de/event/jon-4-2/2027-03-12/
END:VEVENT
BEGIN:VEVENT
DTSTART;TZID=Europe/Berlin:20270314T100000
DTEND;TZID=Europe/Berlin:20270314T113000
DTSTAMP:20260424T113014
CREATED:20260125T171531Z
LAST-MODIFIED:20260125T171531Z
UID:10004790-1805018400-1805023800@fmg-nw.de
SUMMARY:Gottesdienst
DESCRIPTION:
URL:https://fmg-nw.de/event/gottesdienst-5-2-3-2/2027-03-14/
END:VEVENT
BEGIN:VEVENT
DTSTART;TZID=Europe/Berlin:20270314T100000
DTEND;TZID=Europe/Berlin:20270314T113000
DTSTAMP:20260424T113014
CREATED:20260125T171531Z
LAST-MODIFIED:20260125T171623Z
UID:10003750-1805018400-1805023800@fmg-nw.de
SUMMARY:Gottesdienst
DESCRIPTION:
URL:https://fmg-nw.de/event/gottesdienst-5-2-3/2027-03-14/
END:VEVENT
BEGIN:VEVENT
DTSTART;TZID=Europe/Berlin:20270317T163000
DTEND;TZID=Europe/Berlin:20270317T180000
DTSTAMP:20260424T113014
CREATED:20260125T172252Z
LAST-MODIFIED:20260125T172303Z
UID:10004527-1805301000-1805306400@fmg-nw.de
SUMMARY:Jungschar
DESCRIPTION:
URL:https://fmg-nw.de/event/jungschar-4-2/2027-03-17/
END:VEVENT
BEGIN:VEVENT
DTSTART;TZID=Europe/Berlin:20270317T193000
DTEND;TZID=Europe/Berlin:20270317T210000
DTSTAMP:20260424T113014
CREATED:20260125T172212Z
LAST-MODIFIED:20260131T130459Z
UID:10004268-1805311800-1805317200@fmg-nw.de
SUMMARY:Bibelkreis
DESCRIPTION:
URL:https://fmg-nw.de/event/bibelkreis-4-2/2027-03-17/
END:VEVENT
BEGIN:VEVENT
DTSTART;TZID=Europe/Berlin:20270319T190000
DTEND;TZID=Europe/Berlin:20270319T210000
DTSTAMP:20260424T113014
CREATED:20260125T172027Z
LAST-MODIFIED:20260125T172040Z
UID:10004009-1805482800-1805490000@fmg-nw.de
SUMMARY:JON
DESCRIPTION:Rückbestätigung bei Florian Wolf Tel 0176-83589037
URL:https://fmg-nw.de/event/jon-4-2/2027-03-19/
END:VEVENT
BEGIN:VEVENT
DTSTART;TZID=Europe/Berlin:20270321T100000
DTEND;TZID=Europe/Berlin:20270321T113000
DTSTAMP:20260424T113014
CREATED:20260125T171531Z
LAST-MODIFIED:20260125T171531Z
UID:10004791-1805623200-1805628600@fmg-nw.de
SUMMARY:Gottesdienst
DESCRIPTION:
URL:https://fmg-nw.de/event/gottesdienst-5-2-3-2/2027-03-21/
END:VEVENT
BEGIN:VEVENT
DTSTART;TZID=Europe/Berlin:20270321T100000
DTEND;TZID=Europe/Berlin:20270321T113000
DTSTAMP:20260424T113014
CREATED:20260125T171531Z
LAST-MODIFIED:20260125T171623Z
UID:10003751-1805623200-1805628600@fmg-nw.de
SUMMARY:Gottesdienst
DESCRIPTION:
URL:https://fmg-nw.de/event/gottesdienst-5-2-3/2027-03-21/
END:VEVENT
BEGIN:VEVENT
DTSTART;TZID=Europe/Berlin:20270324T163000
DTEND;TZID=Europe/Berlin:20270324T180000
DTSTAMP:20260424T113014
CREATED:20260125T172252Z
LAST-MODIFIED:20260125T172303Z
UID:10004528-1805905800-1805911200@fmg-nw.de
SUMMARY:Jungschar
DESCRIPTION:
URL:https://fmg-nw.de/event/jungschar-4-2/2027-03-24/
END:VEVENT
BEGIN:VEVENT
DTSTART;TZID=Europe/Berlin:20270324T193000
DTEND;TZID=Europe/Berlin:20270324T210000
DTSTAMP:20260424T113014
CREATED:20260125T172212Z
LAST-MODIFIED:20260131T130459Z
UID:10004269-1805916600-1805922000@fmg-nw.de
SUMMARY:Bibelkreis
DESCRIPTION:
URL:https://fmg-nw.de/event/bibelkreis-4-2/2027-03-24/
END:VEVENT
BEGIN:VEVENT
DTSTART;TZID=Europe/Berlin:20270326T190000
DTEND;TZID=Europe/Berlin:20270326T210000
DTSTAMP:20260424T113014
CREATED:20260125T172027Z
LAST-MODIFIED:20260125T172040Z
UID:10004010-1806087600-1806094800@fmg-nw.de
SUMMARY:JON
DESCRIPTION:Rückbestätigung bei Florian Wolf Tel 0176-83589037
URL:https://fmg-nw.de/event/jon-4-2/2027-03-26/
END:VEVENT
BEGIN:VEVENT
DTSTART;TZID=Europe/Berlin:20270328T100000
DTEND;TZID=Europe/Berlin:20270328T113000
DTSTAMP:20260424T113014
CREATED:20260125T171531Z
LAST-MODIFIED:20260125T171531Z
UID:10004792-1806228000-1806233400@fmg-nw.de
SUMMARY:Gottesdienst
DESCRIPTION:
URL:https://fmg-nw.de/event/gottesdienst-5-2-3-2/2027-03-28/
END:VEVENT
BEGIN:VEVENT
DTSTART;TZID=Europe/Berlin:20270328T100000
DTEND;TZID=Europe/Berlin:20270328T113000
DTSTAMP:20260424T113014
CREATED:20260125T171531Z
LAST-MODIFIED:20260125T171623Z
UID:10003752-1806228000-1806233400@fmg-nw.de
SUMMARY:Gottesdienst
DESCRIPTION:
URL:https://fmg-nw.de/event/gottesdienst-5-2-3/2027-03-28/
END:VEVENT
BEGIN:VEVENT
DTSTART;TZID=Europe/Berlin:20270331T163000
DTEND;TZID=Europe/Berlin:20270331T180000
DTSTAMP:20260424T113014
CREATED:20260125T172252Z
LAST-MODIFIED:20260125T172303Z
UID:10004529-1806510600-1806516000@fmg-nw.de
SUMMARY:Jungschar
DESCRIPTION:
URL:https://fmg-nw.de/event/jungschar-4-2/2027-03-31/
END:VEVENT
BEGIN:VEVENT
DTSTART;TZID=Europe/Berlin:20270331T193000
DTEND;TZID=Europe/Berlin:20270331T210000
DTSTAMP:20260424T113014
CREATED:20260125T172212Z
LAST-MODIFIED:20260131T130459Z
UID:10004270-1806521400-1806526800@fmg-nw.de
SUMMARY:Bibelkreis
DESCRIPTION:
URL:https://fmg-nw.de/event/bibelkreis-4-2/2027-03-31/
END:VEVENT
BEGIN:VEVENT
DTSTART;TZID=Europe/Berlin:20270402T190000
DTEND;TZID=Europe/Berlin:20270402T210000
DTSTAMP:20260424T113014
CREATED:20260125T172027Z
LAST-MODIFIED:20260125T172040Z
UID:10004011-1806692400-1806699600@fmg-nw.de
SUMMARY:JON
DESCRIPTION:Rückbestätigung bei Florian Wolf Tel 0176-83589037
URL:https://fmg-nw.de/event/jon-4-2/2027-04-02/
END:VEVENT
BEGIN:VEVENT
DTSTART;TZID=Europe/Berlin:20270404T100000
DTEND;TZID=Europe/Berlin:20270404T113000
DTSTAMP:20260424T113014
CREATED:20260125T171531Z
LAST-MODIFIED:20260125T171531Z
UID:10004793-1806832800-1806838200@fmg-nw.de
SUMMARY:Gottesdienst
DESCRIPTION:
URL:https://fmg-nw.de/event/gottesdienst-5-2-3-2/2027-04-04/
END:VEVENT
BEGIN:VEVENT
DTSTART;TZID=Europe/Berlin:20270404T100000
DTEND;TZID=Europe/Berlin:20270404T113000
DTSTAMP:20260424T113014
CREATED:20260125T171531Z
LAST-MODIFIED:20260125T171623Z
UID:10003753-1806832800-1806838200@fmg-nw.de
SUMMARY:Gottesdienst
DESCRIPTION:
URL:https://fmg-nw.de/event/gottesdienst-5-2-3/2027-04-04/
END:VEVENT
BEGIN:VEVENT
DTSTART;TZID=Europe/Berlin:20270407T163000
DTEND;TZID=Europe/Berlin:20270407T180000
DTSTAMP:20260424T113014
CREATED:20260125T172252Z
LAST-MODIFIED:20260125T172303Z
UID:10004530-1807115400-1807120800@fmg-nw.de
SUMMARY:Jungschar
DESCRIPTION:
URL:https://fmg-nw.de/event/jungschar-4-2/2027-04-07/
END:VEVENT
BEGIN:VEVENT
DTSTART;TZID=Europe/Berlin:20270407T193000
DTEND;TZID=Europe/Berlin:20270407T210000
DTSTAMP:20260424T113014
CREATED:20260125T172212Z
LAST-MODIFIED:20260131T130459Z
UID:10004271-1807126200-1807131600@fmg-nw.de
SUMMARY:Bibelkreis
DESCRIPTION:
URL:https://fmg-nw.de/event/bibelkreis-4-2/2027-04-07/
END:VEVENT
BEGIN:VEVENT
DTSTART;TZID=Europe/Berlin:20270409T190000
DTEND;TZID=Europe/Berlin:20270409T210000
DTSTAMP:20260424T113014
CREATED:20260125T172027Z
LAST-MODIFIED:20260125T172040Z
UID:10004012-1807297200-1807304400@fmg-nw.de
SUMMARY:JON
DESCRIPTION:Rückbestätigung bei Florian Wolf Tel 0176-83589037
URL:https://fmg-nw.de/event/jon-4-2/2027-04-09/
END:VEVENT
BEGIN:VEVENT
DTSTART;TZID=Europe/Berlin:20270411T100000
DTEND;TZID=Europe/Berlin:20270411T113000
DTSTAMP:20260424T113014
CREATED:20260125T171531Z
LAST-MODIFIED:20260125T171531Z
UID:10004794-1807437600-1807443000@fmg-nw.de
SUMMARY:Gottesdienst
DESCRIPTION:
URL:https://fmg-nw.de/event/gottesdienst-5-2-3-2/2027-04-11/
END:VEVENT
BEGIN:VEVENT
DTSTART;TZID=Europe/Berlin:20270411T100000
DTEND;TZID=Europe/Berlin:20270411T113000
DTSTAMP:20260424T113014
CREATED:20260125T171531Z
LAST-MODIFIED:20260125T171623Z
UID:10003754-1807437600-1807443000@fmg-nw.de
SUMMARY:Gottesdienst
DESCRIPTION:
URL:https://fmg-nw.de/event/gottesdienst-5-2-3/2027-04-11/
END:VEVENT
BEGIN:VEVENT
DTSTART;TZID=Europe/Berlin:20270414T163000
DTEND;TZID=Europe/Berlin:20270414T180000
DTSTAMP:20260424T113014
CREATED:20260125T172252Z
LAST-MODIFIED:20260125T172303Z
UID:10004531-1807720200-1807725600@fmg-nw.de
SUMMARY:Jungschar
DESCRIPTION:
URL:https://fmg-nw.de/event/jungschar-4-2/2027-04-14/
END:VEVENT
BEGIN:VEVENT
DTSTART;TZID=Europe/Berlin:20270414T193000
DTEND;TZID=Europe/Berlin:20270414T210000
DTSTAMP:20260424T113014
CREATED:20260125T172212Z
LAST-MODIFIED:20260131T130459Z
UID:10004272-1807731000-1807736400@fmg-nw.de
SUMMARY:Bibelkreis
DESCRIPTION:
URL:https://fmg-nw.de/event/bibelkreis-4-2/2027-04-14/
END:VEVENT
BEGIN:VEVENT
DTSTART;TZID=Europe/Berlin:20270416T190000
DTEND;TZID=Europe/Berlin:20270416T210000
DTSTAMP:20260424T113014
CREATED:20260125T172027Z
LAST-MODIFIED:20260125T172040Z
UID:10004013-1807902000-1807909200@fmg-nw.de
SUMMARY:JON
DESCRIPTION:Rückbestätigung bei Florian Wolf Tel 0176-83589037
URL:https://fmg-nw.de/event/jon-4-2/2027-04-16/
END:VEVENT
END:VCALENDAR