BEGIN:VCALENDAR
VERSION:2.0
PRODID:-//Freie Missionsgemeinde Neckarweihingen - ECPv6.15.12.2//NONSGML v1.0//EN
CALSCALE:GREGORIAN
METHOD:PUBLISH
X-WR-CALNAME:Freie Missionsgemeinde Neckarweihingen
X-ORIGINAL-URL:https://fmg-nw.de
X-WR-CALDESC:Veranstaltungen für Freie Missionsgemeinde Neckarweihingen
REFRESH-INTERVAL;VALUE=DURATION:PT1H
X-Robots-Tag:noindex
X-PUBLISHED-TTL:PT1H
BEGIN:VTIMEZONE
TZID:Europe/Berlin
BEGIN:DAYLIGHT
TZOFFSETFROM:+0100
TZOFFSETTO:+0200
TZNAME:CEST
DTSTART:20250330T010000
END:DAYLIGHT
BEGIN:STANDARD
TZOFFSETFROM:+0200
TZOFFSETTO:+0100
TZNAME:CET
DTSTART:20251026T010000
END:STANDARD
BEGIN:DAYLIGHT
TZOFFSETFROM:+0100
TZOFFSETTO:+0200
TZNAME:CEST
DTSTART:20260329T010000
END:DAYLIGHT
BEGIN:STANDARD
TZOFFSETFROM:+0200
TZOFFSETTO:+0100
TZNAME:CET
DTSTART:20261025T010000
END:STANDARD
BEGIN:DAYLIGHT
TZOFFSETFROM:+0100
TZOFFSETTO:+0200
TZNAME:CEST
DTSTART:20270328T010000
END:DAYLIGHT
BEGIN:STANDARD
TZOFFSETFROM:+0200
TZOFFSETTO:+0100
TZNAME:CET
DTSTART:20271031T010000
END:STANDARD
END:VTIMEZONE
BEGIN:VEVENT
DTSTART;TZID=Europe/Berlin:20260624T193000
DTEND;TZID=Europe/Berlin:20260624T210000
DTSTAMP:20260421T142223
CREATED:20260125T172212Z
LAST-MODIFIED:20260131T130459Z
UID:10004230-1782329400-1782334800@fmg-nw.de
SUMMARY:Bibelkreis
DESCRIPTION:
URL:https://fmg-nw.de/event/bibelkreis-4-2/2026-06-24/
END:VEVENT
BEGIN:VEVENT
DTSTART;TZID=Europe/Berlin:20260626T190000
DTEND;TZID=Europe/Berlin:20260626T210000
DTSTAMP:20260421T142223
CREATED:20260125T172027Z
LAST-MODIFIED:20260125T172040Z
UID:10003971-1782500400-1782507600@fmg-nw.de
SUMMARY:JON
DESCRIPTION:Rückbestätigung bei Florian Wolf Tel 0176-83589037
URL:https://fmg-nw.de/event/jon-4-2/2026-06-26/
END:VEVENT
BEGIN:VEVENT
DTSTART;TZID=Europe/Berlin:20260628T100000
DTEND;TZID=Europe/Berlin:20260628T113000
DTSTAMP:20260421T142223
CREATED:20260125T171531Z
LAST-MODIFIED:20260125T171531Z
UID:10004753-1782640800-1782646200@fmg-nw.de
SUMMARY:Gottesdienst
DESCRIPTION:
URL:https://fmg-nw.de/event/gottesdienst-5-2-3-2/2026-06-28/
END:VEVENT
BEGIN:VEVENT
DTSTART;TZID=Europe/Berlin:20260628T100000
DTEND;TZID=Europe/Berlin:20260628T113000
DTSTAMP:20260421T142223
CREATED:20260125T171531Z
LAST-MODIFIED:20260125T171623Z
UID:10003713-1782640800-1782646200@fmg-nw.de
SUMMARY:Gottesdienst
DESCRIPTION:
URL:https://fmg-nw.de/event/gottesdienst-5-2-3/2026-06-28/
END:VEVENT
BEGIN:VEVENT
DTSTART;TZID=Europe/Berlin:20260701T163000
DTEND;TZID=Europe/Berlin:20260701T180000
DTSTAMP:20260421T142223
CREATED:20260125T172252Z
LAST-MODIFIED:20260125T172303Z
UID:10004490-1782923400-1782928800@fmg-nw.de
SUMMARY:Jungschar
DESCRIPTION:
URL:https://fmg-nw.de/event/jungschar-4-2/2026-07-01/
END:VEVENT
BEGIN:VEVENT
DTSTART;TZID=Europe/Berlin:20260701T193000
DTEND;TZID=Europe/Berlin:20260701T210000
DTSTAMP:20260421T142223
CREATED:20260125T172212Z
LAST-MODIFIED:20260131T130459Z
UID:10004231-1782934200-1782939600@fmg-nw.de
SUMMARY:Bibelkreis
DESCRIPTION:
URL:https://fmg-nw.de/event/bibelkreis-4-2/2026-07-01/
END:VEVENT
BEGIN:VEVENT
DTSTART;TZID=Europe/Berlin:20260703T190000
DTEND;TZID=Europe/Berlin:20260703T210000
DTSTAMP:20260421T142223
CREATED:20260125T172027Z
LAST-MODIFIED:20260125T172040Z
UID:10003972-1783105200-1783112400@fmg-nw.de
SUMMARY:JON
DESCRIPTION:Rückbestätigung bei Florian Wolf Tel 0176-83589037
URL:https://fmg-nw.de/event/jon-4-2/2026-07-03/
END:VEVENT
BEGIN:VEVENT
DTSTART;TZID=Europe/Berlin:20260705T100000
DTEND;TZID=Europe/Berlin:20260705T113000
DTSTAMP:20260421T142223
CREATED:20260125T171531Z
LAST-MODIFIED:20260125T171531Z
UID:10004754-1783245600-1783251000@fmg-nw.de
SUMMARY:Gottesdienst
DESCRIPTION:
URL:https://fmg-nw.de/event/gottesdienst-5-2-3-2/2026-07-05/
END:VEVENT
BEGIN:VEVENT
DTSTART;TZID=Europe/Berlin:20260705T100000
DTEND;TZID=Europe/Berlin:20260705T113000
DTSTAMP:20260421T142223
CREATED:20260125T171531Z
LAST-MODIFIED:20260125T171623Z
UID:10003714-1783245600-1783251000@fmg-nw.de
SUMMARY:Gottesdienst
DESCRIPTION:
URL:https://fmg-nw.de/event/gottesdienst-5-2-3/2026-07-05/
END:VEVENT
BEGIN:VEVENT
DTSTART;TZID=Europe/Berlin:20260708T163000
DTEND;TZID=Europe/Berlin:20260708T180000
DTSTAMP:20260421T142223
CREATED:20260125T172252Z
LAST-MODIFIED:20260125T172303Z
UID:10004491-1783528200-1783533600@fmg-nw.de
SUMMARY:Jungschar
DESCRIPTION:
URL:https://fmg-nw.de/event/jungschar-4-2/2026-07-08/
END:VEVENT
BEGIN:VEVENT
DTSTART;TZID=Europe/Berlin:20260708T193000
DTEND;TZID=Europe/Berlin:20260708T210000
DTSTAMP:20260421T142223
CREATED:20260125T172212Z
LAST-MODIFIED:20260131T130459Z
UID:10004232-1783539000-1783544400@fmg-nw.de
SUMMARY:Bibelkreis
DESCRIPTION:
URL:https://fmg-nw.de/event/bibelkreis-4-2/2026-07-08/
END:VEVENT
BEGIN:VEVENT
DTSTART;TZID=Europe/Berlin:20260710T190000
DTEND;TZID=Europe/Berlin:20260710T210000
DTSTAMP:20260421T142223
CREATED:20260125T172027Z
LAST-MODIFIED:20260125T172040Z
UID:10003973-1783710000-1783717200@fmg-nw.de
SUMMARY:JON
DESCRIPTION:Rückbestätigung bei Florian Wolf Tel 0176-83589037
URL:https://fmg-nw.de/event/jon-4-2/2026-07-10/
END:VEVENT
BEGIN:VEVENT
DTSTART;TZID=Europe/Berlin:20260712T100000
DTEND;TZID=Europe/Berlin:20260712T113000
DTSTAMP:20260421T142223
CREATED:20260125T171531Z
LAST-MODIFIED:20260125T171531Z
UID:10004755-1783850400-1783855800@fmg-nw.de
SUMMARY:Gottesdienst
DESCRIPTION:
URL:https://fmg-nw.de/event/gottesdienst-5-2-3-2/2026-07-12/
END:VEVENT
BEGIN:VEVENT
DTSTART;TZID=Europe/Berlin:20260712T100000
DTEND;TZID=Europe/Berlin:20260712T113000
DTSTAMP:20260421T142223
CREATED:20260125T171531Z
LAST-MODIFIED:20260125T171623Z
UID:10003715-1783850400-1783855800@fmg-nw.de
SUMMARY:Gottesdienst
DESCRIPTION:
URL:https://fmg-nw.de/event/gottesdienst-5-2-3/2026-07-12/
END:VEVENT
BEGIN:VEVENT
DTSTART;TZID=Europe/Berlin:20260715T163000
DTEND;TZID=Europe/Berlin:20260715T180000
DTSTAMP:20260421T142223
CREATED:20260125T172252Z
LAST-MODIFIED:20260125T172303Z
UID:10004492-1784133000-1784138400@fmg-nw.de
SUMMARY:Jungschar
DESCRIPTION:
URL:https://fmg-nw.de/event/jungschar-4-2/2026-07-15/
END:VEVENT
BEGIN:VEVENT
DTSTART;TZID=Europe/Berlin:20260715T193000
DTEND;TZID=Europe/Berlin:20260715T210000
DTSTAMP:20260421T142223
CREATED:20260125T172212Z
LAST-MODIFIED:20260131T130459Z
UID:10004233-1784143800-1784149200@fmg-nw.de
SUMMARY:Bibelkreis
DESCRIPTION:
URL:https://fmg-nw.de/event/bibelkreis-4-2/2026-07-15/
END:VEVENT
BEGIN:VEVENT
DTSTART;TZID=Europe/Berlin:20260717T190000
DTEND;TZID=Europe/Berlin:20260717T210000
DTSTAMP:20260421T142223
CREATED:20260125T172027Z
LAST-MODIFIED:20260125T172040Z
UID:10003974-1784314800-1784322000@fmg-nw.de
SUMMARY:JON
DESCRIPTION:Rückbestätigung bei Florian Wolf Tel 0176-83589037
URL:https://fmg-nw.de/event/jon-4-2/2026-07-17/
END:VEVENT
BEGIN:VEVENT
DTSTART;TZID=Europe/Berlin:20260719T100000
DTEND;TZID=Europe/Berlin:20260719T113000
DTSTAMP:20260421T142223
CREATED:20260125T171531Z
LAST-MODIFIED:20260125T171623Z
UID:10003716-1784455200-1784460600@fmg-nw.de
SUMMARY:Gottesdienst
DESCRIPTION:
URL:https://fmg-nw.de/event/gottesdienst-5-2-3/2026-07-19/
END:VEVENT
BEGIN:VEVENT
DTSTART;TZID=Europe/Berlin:20260719T100000
DTEND;TZID=Europe/Berlin:20260719T113000
DTSTAMP:20260421T142223
CREATED:20260125T171531Z
LAST-MODIFIED:20260125T171531Z
UID:10004756-1784455200-1784460600@fmg-nw.de
SUMMARY:Gottesdienst
DESCRIPTION:
URL:https://fmg-nw.de/event/gottesdienst-5-2-3-2/2026-07-19/
END:VEVENT
BEGIN:VEVENT
DTSTART;TZID=Europe/Berlin:20260722T163000
DTEND;TZID=Europe/Berlin:20260722T180000
DTSTAMP:20260421T142223
CREATED:20260125T172252Z
LAST-MODIFIED:20260125T172303Z
UID:10004493-1784737800-1784743200@fmg-nw.de
SUMMARY:Jungschar
DESCRIPTION:
URL:https://fmg-nw.de/event/jungschar-4-2/2026-07-22/
END:VEVENT
BEGIN:VEVENT
DTSTART;TZID=Europe/Berlin:20260722T193000
DTEND;TZID=Europe/Berlin:20260722T210000
DTSTAMP:20260421T142223
CREATED:20260125T172212Z
LAST-MODIFIED:20260131T130459Z
UID:10004234-1784748600-1784754000@fmg-nw.de
SUMMARY:Bibelkreis
DESCRIPTION:
URL:https://fmg-nw.de/event/bibelkreis-4-2/2026-07-22/
END:VEVENT
BEGIN:VEVENT
DTSTART;TZID=Europe/Berlin:20260724T190000
DTEND;TZID=Europe/Berlin:20260724T210000
DTSTAMP:20260421T142223
CREATED:20260125T172027Z
LAST-MODIFIED:20260125T172040Z
UID:10003975-1784919600-1784926800@fmg-nw.de
SUMMARY:JON
DESCRIPTION:Rückbestätigung bei Florian Wolf Tel 0176-83589037
URL:https://fmg-nw.de/event/jon-4-2/2026-07-24/
END:VEVENT
BEGIN:VEVENT
DTSTART;TZID=Europe/Berlin:20260726T100000
DTEND;TZID=Europe/Berlin:20260726T113000
DTSTAMP:20260421T142223
CREATED:20260125T171531Z
LAST-MODIFIED:20260125T171623Z
UID:10003717-1785060000-1785065400@fmg-nw.de
SUMMARY:Gottesdienst
DESCRIPTION:
URL:https://fmg-nw.de/event/gottesdienst-5-2-3/2026-07-26/
END:VEVENT
BEGIN:VEVENT
DTSTART;TZID=Europe/Berlin:20260726T100000
DTEND;TZID=Europe/Berlin:20260726T113000
DTSTAMP:20260421T142223
CREATED:20260125T171531Z
LAST-MODIFIED:20260125T171531Z
UID:10004757-1785060000-1785065400@fmg-nw.de
SUMMARY:Gottesdienst
DESCRIPTION:
URL:https://fmg-nw.de/event/gottesdienst-5-2-3-2/2026-07-26/
END:VEVENT
BEGIN:VEVENT
DTSTART;TZID=Europe/Berlin:20260729T163000
DTEND;TZID=Europe/Berlin:20260729T180000
DTSTAMP:20260421T142223
CREATED:20260125T172252Z
LAST-MODIFIED:20260125T172303Z
UID:10004494-1785342600-1785348000@fmg-nw.de
SUMMARY:Jungschar
DESCRIPTION:
URL:https://fmg-nw.de/event/jungschar-4-2/2026-07-29/
END:VEVENT
BEGIN:VEVENT
DTSTART;TZID=Europe/Berlin:20260729T193000
DTEND;TZID=Europe/Berlin:20260729T210000
DTSTAMP:20260421T142223
CREATED:20260125T172212Z
LAST-MODIFIED:20260131T130459Z
UID:10004235-1785353400-1785358800@fmg-nw.de
SUMMARY:Bibelkreis
DESCRIPTION:
URL:https://fmg-nw.de/event/bibelkreis-4-2/2026-07-29/
END:VEVENT
BEGIN:VEVENT
DTSTART;TZID=Europe/Berlin:20260731T190000
DTEND;TZID=Europe/Berlin:20260731T210000
DTSTAMP:20260421T142223
CREATED:20260125T172027Z
LAST-MODIFIED:20260125T172040Z
UID:10003976-1785524400-1785531600@fmg-nw.de
SUMMARY:JON
DESCRIPTION:Rückbestätigung bei Florian Wolf Tel 0176-83589037
URL:https://fmg-nw.de/event/jon-4-2/2026-07-31/
END:VEVENT
BEGIN:VEVENT
DTSTART;TZID=Europe/Berlin:20260802T100000
DTEND;TZID=Europe/Berlin:20260802T113000
DTSTAMP:20260421T142223
CREATED:20260125T171531Z
LAST-MODIFIED:20260125T171623Z
UID:10003718-1785664800-1785670200@fmg-nw.de
SUMMARY:Gottesdienst
DESCRIPTION:
URL:https://fmg-nw.de/event/gottesdienst-5-2-3/2026-08-02/
END:VEVENT
BEGIN:VEVENT
DTSTART;TZID=Europe/Berlin:20260802T100000
DTEND;TZID=Europe/Berlin:20260802T113000
DTSTAMP:20260421T142223
CREATED:20260125T171531Z
LAST-MODIFIED:20260125T171531Z
UID:10004758-1785664800-1785670200@fmg-nw.de
SUMMARY:Gottesdienst
DESCRIPTION:
URL:https://fmg-nw.de/event/gottesdienst-5-2-3-2/2026-08-02/
END:VEVENT
BEGIN:VEVENT
DTSTART;TZID=Europe/Berlin:20260805T163000
DTEND;TZID=Europe/Berlin:20260805T180000
DTSTAMP:20260421T142223
CREATED:20260125T172252Z
LAST-MODIFIED:20260125T172303Z
UID:10004495-1785947400-1785952800@fmg-nw.de
SUMMARY:Jungschar
DESCRIPTION:
URL:https://fmg-nw.de/event/jungschar-4-2/2026-08-05/
END:VEVENT
END:VCALENDAR