BEGIN:VCALENDAR
VERSION:2.0
PRODID:-//Freie Missionsgemeinde Neckarweihingen - ECPv6.15.12.2//NONSGML v1.0//EN
CALSCALE:GREGORIAN
METHOD:PUBLISH
X-WR-CALNAME:Freie Missionsgemeinde Neckarweihingen
X-ORIGINAL-URL:https://fmg-nw.de
X-WR-CALDESC:Veranstaltungen für Freie Missionsgemeinde Neckarweihingen
REFRESH-INTERVAL;VALUE=DURATION:PT1H
X-Robots-Tag:noindex
X-PUBLISHED-TTL:PT1H
BEGIN:VTIMEZONE
TZID:Europe/Berlin
BEGIN:DAYLIGHT
TZOFFSETFROM:+0100
TZOFFSETTO:+0200
TZNAME:CEST
DTSTART:20250330T010000
END:DAYLIGHT
BEGIN:STANDARD
TZOFFSETFROM:+0200
TZOFFSETTO:+0100
TZNAME:CET
DTSTART:20251026T010000
END:STANDARD
BEGIN:DAYLIGHT
TZOFFSETFROM:+0100
TZOFFSETTO:+0200
TZNAME:CEST
DTSTART:20260329T010000
END:DAYLIGHT
BEGIN:STANDARD
TZOFFSETFROM:+0200
TZOFFSETTO:+0100
TZNAME:CET
DTSTART:20261025T010000
END:STANDARD
BEGIN:DAYLIGHT
TZOFFSETFROM:+0100
TZOFFSETTO:+0200
TZNAME:CEST
DTSTART:20270328T010000
END:DAYLIGHT
BEGIN:STANDARD
TZOFFSETFROM:+0200
TZOFFSETTO:+0100
TZNAME:CET
DTSTART:20271031T010000
END:STANDARD
END:VTIMEZONE
BEGIN:VEVENT
DTSTART;TZID=Europe/Berlin:20260814T190000
DTEND;TZID=Europe/Berlin:20260814T210000
DTSTAMP:20260421T184858
CREATED:20260125T172027Z
LAST-MODIFIED:20260125T172040Z
UID:10003978-1786734000-1786741200@fmg-nw.de
SUMMARY:JON
DESCRIPTION:Rückbestätigung bei Florian Wolf Tel 0176-83589037
URL:https://fmg-nw.de/event/jon-4-2/2026-08-14/
END:VEVENT
BEGIN:VEVENT
DTSTART;TZID=Europe/Berlin:20260816T100000
DTEND;TZID=Europe/Berlin:20260816T113000
DTSTAMP:20260421T184858
CREATED:20260125T171531Z
LAST-MODIFIED:20260125T171623Z
UID:10003720-1786874400-1786879800@fmg-nw.de
SUMMARY:Gottesdienst
DESCRIPTION:
URL:https://fmg-nw.de/event/gottesdienst-5-2-3/2026-08-16/
END:VEVENT
BEGIN:VEVENT
DTSTART;TZID=Europe/Berlin:20260816T100000
DTEND;TZID=Europe/Berlin:20260816T113000
DTSTAMP:20260421T184858
CREATED:20260125T171531Z
LAST-MODIFIED:20260125T171531Z
UID:10004760-1786874400-1786879800@fmg-nw.de
SUMMARY:Gottesdienst
DESCRIPTION:
URL:https://fmg-nw.de/event/gottesdienst-5-2-3-2/2026-08-16/
END:VEVENT
BEGIN:VEVENT
DTSTART;TZID=Europe/Berlin:20260819T163000
DTEND;TZID=Europe/Berlin:20260819T180000
DTSTAMP:20260421T184858
CREATED:20260125T172252Z
LAST-MODIFIED:20260125T172303Z
UID:10004497-1787157000-1787162400@fmg-nw.de
SUMMARY:Jungschar
DESCRIPTION:
URL:https://fmg-nw.de/event/jungschar-4-2/2026-08-19/
END:VEVENT
BEGIN:VEVENT
DTSTART;TZID=Europe/Berlin:20260819T193000
DTEND;TZID=Europe/Berlin:20260819T210000
DTSTAMP:20260421T184858
CREATED:20260125T172212Z
LAST-MODIFIED:20260131T130459Z
UID:10004238-1787167800-1787173200@fmg-nw.de
SUMMARY:Bibelkreis
DESCRIPTION:
URL:https://fmg-nw.de/event/bibelkreis-4-2/2026-08-19/
END:VEVENT
BEGIN:VEVENT
DTSTART;TZID=Europe/Berlin:20260821T190000
DTEND;TZID=Europe/Berlin:20260821T210000
DTSTAMP:20260421T184858
CREATED:20260125T172027Z
LAST-MODIFIED:20260125T172040Z
UID:10003979-1787338800-1787346000@fmg-nw.de
SUMMARY:JON
DESCRIPTION:Rückbestätigung bei Florian Wolf Tel 0176-83589037
URL:https://fmg-nw.de/event/jon-4-2/2026-08-21/
END:VEVENT
BEGIN:VEVENT
DTSTART;TZID=Europe/Berlin:20260823T100000
DTEND;TZID=Europe/Berlin:20260823T113000
DTSTAMP:20260421T184858
CREATED:20260125T171531Z
LAST-MODIFIED:20260125T171623Z
UID:10003721-1787479200-1787484600@fmg-nw.de
SUMMARY:Gottesdienst
DESCRIPTION:
URL:https://fmg-nw.de/event/gottesdienst-5-2-3/2026-08-23/
END:VEVENT
BEGIN:VEVENT
DTSTART;TZID=Europe/Berlin:20260823T100000
DTEND;TZID=Europe/Berlin:20260823T113000
DTSTAMP:20260421T184858
CREATED:20260125T171531Z
LAST-MODIFIED:20260125T171531Z
UID:10004761-1787479200-1787484600@fmg-nw.de
SUMMARY:Gottesdienst
DESCRIPTION:
URL:https://fmg-nw.de/event/gottesdienst-5-2-3-2/2026-08-23/
END:VEVENT
BEGIN:VEVENT
DTSTART;TZID=Europe/Berlin:20260826T163000
DTEND;TZID=Europe/Berlin:20260826T180000
DTSTAMP:20260421T184858
CREATED:20260125T172252Z
LAST-MODIFIED:20260125T172303Z
UID:10004498-1787761800-1787767200@fmg-nw.de
SUMMARY:Jungschar
DESCRIPTION:
URL:https://fmg-nw.de/event/jungschar-4-2/2026-08-26/
END:VEVENT
BEGIN:VEVENT
DTSTART;TZID=Europe/Berlin:20260826T193000
DTEND;TZID=Europe/Berlin:20260826T210000
DTSTAMP:20260421T184858
CREATED:20260125T172212Z
LAST-MODIFIED:20260131T130459Z
UID:10004239-1787772600-1787778000@fmg-nw.de
SUMMARY:Bibelkreis
DESCRIPTION:
URL:https://fmg-nw.de/event/bibelkreis-4-2/2026-08-26/
END:VEVENT
BEGIN:VEVENT
DTSTART;TZID=Europe/Berlin:20260828T190000
DTEND;TZID=Europe/Berlin:20260828T210000
DTSTAMP:20260421T184858
CREATED:20260125T172027Z
LAST-MODIFIED:20260125T172040Z
UID:10003980-1787943600-1787950800@fmg-nw.de
SUMMARY:JON
DESCRIPTION:Rückbestätigung bei Florian Wolf Tel 0176-83589037
URL:https://fmg-nw.de/event/jon-4-2/2026-08-28/
END:VEVENT
BEGIN:VEVENT
DTSTART;TZID=Europe/Berlin:20260830T100000
DTEND;TZID=Europe/Berlin:20260830T113000
DTSTAMP:20260421T184858
CREATED:20260125T171531Z
LAST-MODIFIED:20260125T171623Z
UID:10003722-1788084000-1788089400@fmg-nw.de
SUMMARY:Gottesdienst
DESCRIPTION:
URL:https://fmg-nw.de/event/gottesdienst-5-2-3/2026-08-30/
END:VEVENT
BEGIN:VEVENT
DTSTART;TZID=Europe/Berlin:20260830T100000
DTEND;TZID=Europe/Berlin:20260830T113000
DTSTAMP:20260421T184858
CREATED:20260125T171531Z
LAST-MODIFIED:20260125T171531Z
UID:10004762-1788084000-1788089400@fmg-nw.de
SUMMARY:Gottesdienst
DESCRIPTION:
URL:https://fmg-nw.de/event/gottesdienst-5-2-3-2/2026-08-30/
END:VEVENT
BEGIN:VEVENT
DTSTART;TZID=Europe/Berlin:20260902T163000
DTEND;TZID=Europe/Berlin:20260902T180000
DTSTAMP:20260421T184858
CREATED:20260125T172252Z
LAST-MODIFIED:20260125T172303Z
UID:10004499-1788366600-1788372000@fmg-nw.de
SUMMARY:Jungschar
DESCRIPTION:
URL:https://fmg-nw.de/event/jungschar-4-2/2026-09-02/
END:VEVENT
BEGIN:VEVENT
DTSTART;TZID=Europe/Berlin:20260902T193000
DTEND;TZID=Europe/Berlin:20260902T210000
DTSTAMP:20260421T184858
CREATED:20260125T172212Z
LAST-MODIFIED:20260131T130459Z
UID:10004240-1788377400-1788382800@fmg-nw.de
SUMMARY:Bibelkreis
DESCRIPTION:
URL:https://fmg-nw.de/event/bibelkreis-4-2/2026-09-02/
END:VEVENT
BEGIN:VEVENT
DTSTART;TZID=Europe/Berlin:20260904T190000
DTEND;TZID=Europe/Berlin:20260904T210000
DTSTAMP:20260421T184858
CREATED:20260125T172027Z
LAST-MODIFIED:20260125T172040Z
UID:10003981-1788548400-1788555600@fmg-nw.de
SUMMARY:JON
DESCRIPTION:Rückbestätigung bei Florian Wolf Tel 0176-83589037
URL:https://fmg-nw.de/event/jon-4-2/2026-09-04/
END:VEVENT
BEGIN:VEVENT
DTSTART;TZID=Europe/Berlin:20260906T100000
DTEND;TZID=Europe/Berlin:20260906T113000
DTSTAMP:20260421T184858
CREATED:20260125T171531Z
LAST-MODIFIED:20260125T171623Z
UID:10003723-1788688800-1788694200@fmg-nw.de
SUMMARY:Gottesdienst
DESCRIPTION:
URL:https://fmg-nw.de/event/gottesdienst-5-2-3/2026-09-06/
END:VEVENT
BEGIN:VEVENT
DTSTART;TZID=Europe/Berlin:20260906T100000
DTEND;TZID=Europe/Berlin:20260906T113000
DTSTAMP:20260421T184858
CREATED:20260125T171531Z
LAST-MODIFIED:20260125T171531Z
UID:10004763-1788688800-1788694200@fmg-nw.de
SUMMARY:Gottesdienst
DESCRIPTION:
URL:https://fmg-nw.de/event/gottesdienst-5-2-3-2/2026-09-06/
END:VEVENT
BEGIN:VEVENT
DTSTART;TZID=Europe/Berlin:20260909T163000
DTEND;TZID=Europe/Berlin:20260909T180000
DTSTAMP:20260421T184858
CREATED:20260125T172252Z
LAST-MODIFIED:20260125T172303Z
UID:10004500-1788971400-1788976800@fmg-nw.de
SUMMARY:Jungschar
DESCRIPTION:
URL:https://fmg-nw.de/event/jungschar-4-2/2026-09-09/
END:VEVENT
BEGIN:VEVENT
DTSTART;TZID=Europe/Berlin:20260909T193000
DTEND;TZID=Europe/Berlin:20260909T210000
DTSTAMP:20260421T184858
CREATED:20260125T172212Z
LAST-MODIFIED:20260131T130459Z
UID:10004241-1788982200-1788987600@fmg-nw.de
SUMMARY:Bibelkreis
DESCRIPTION:
URL:https://fmg-nw.de/event/bibelkreis-4-2/2026-09-09/
END:VEVENT
BEGIN:VEVENT
DTSTART;TZID=Europe/Berlin:20260911T190000
DTEND;TZID=Europe/Berlin:20260911T210000
DTSTAMP:20260421T184858
CREATED:20260125T172027Z
LAST-MODIFIED:20260125T172040Z
UID:10003982-1789153200-1789160400@fmg-nw.de
SUMMARY:JON
DESCRIPTION:Rückbestätigung bei Florian Wolf Tel 0176-83589037
URL:https://fmg-nw.de/event/jon-4-2/2026-09-11/
END:VEVENT
BEGIN:VEVENT
DTSTART;TZID=Europe/Berlin:20260913T100000
DTEND;TZID=Europe/Berlin:20260913T113000
DTSTAMP:20260421T184858
CREATED:20260125T171531Z
LAST-MODIFIED:20260125T171623Z
UID:10003724-1789293600-1789299000@fmg-nw.de
SUMMARY:Gottesdienst
DESCRIPTION:
URL:https://fmg-nw.de/event/gottesdienst-5-2-3/2026-09-13/
END:VEVENT
BEGIN:VEVENT
DTSTART;TZID=Europe/Berlin:20260913T100000
DTEND;TZID=Europe/Berlin:20260913T113000
DTSTAMP:20260421T184858
CREATED:20260125T171531Z
LAST-MODIFIED:20260125T171531Z
UID:10004764-1789293600-1789299000@fmg-nw.de
SUMMARY:Gottesdienst
DESCRIPTION:
URL:https://fmg-nw.de/event/gottesdienst-5-2-3-2/2026-09-13/
END:VEVENT
BEGIN:VEVENT
DTSTART;TZID=Europe/Berlin:20260916T163000
DTEND;TZID=Europe/Berlin:20260916T180000
DTSTAMP:20260421T184858
CREATED:20260125T172252Z
LAST-MODIFIED:20260125T172303Z
UID:10004501-1789576200-1789581600@fmg-nw.de
SUMMARY:Jungschar
DESCRIPTION:
URL:https://fmg-nw.de/event/jungschar-4-2/2026-09-16/
END:VEVENT
BEGIN:VEVENT
DTSTART;TZID=Europe/Berlin:20260916T193000
DTEND;TZID=Europe/Berlin:20260916T210000
DTSTAMP:20260421T184858
CREATED:20260125T172212Z
LAST-MODIFIED:20260131T130459Z
UID:10004242-1789587000-1789592400@fmg-nw.de
SUMMARY:Bibelkreis
DESCRIPTION:
URL:https://fmg-nw.de/event/bibelkreis-4-2/2026-09-16/
END:VEVENT
BEGIN:VEVENT
DTSTART;TZID=Europe/Berlin:20260918T190000
DTEND;TZID=Europe/Berlin:20260918T210000
DTSTAMP:20260421T184858
CREATED:20260125T172027Z
LAST-MODIFIED:20260125T172040Z
UID:10003983-1789758000-1789765200@fmg-nw.de
SUMMARY:JON
DESCRIPTION:Rückbestätigung bei Florian Wolf Tel 0176-83589037
URL:https://fmg-nw.de/event/jon-4-2/2026-09-18/
END:VEVENT
BEGIN:VEVENT
DTSTART;TZID=Europe/Berlin:20260920T100000
DTEND;TZID=Europe/Berlin:20260920T113000
DTSTAMP:20260421T184858
CREATED:20260125T171531Z
LAST-MODIFIED:20260125T171623Z
UID:10003725-1789898400-1789903800@fmg-nw.de
SUMMARY:Gottesdienst
DESCRIPTION:
URL:https://fmg-nw.de/event/gottesdienst-5-2-3/2026-09-20/
END:VEVENT
BEGIN:VEVENT
DTSTART;TZID=Europe/Berlin:20260920T100000
DTEND;TZID=Europe/Berlin:20260920T113000
DTSTAMP:20260421T184858
CREATED:20260125T171531Z
LAST-MODIFIED:20260125T171531Z
UID:10004765-1789898400-1789903800@fmg-nw.de
SUMMARY:Gottesdienst
DESCRIPTION:
URL:https://fmg-nw.de/event/gottesdienst-5-2-3-2/2026-09-20/
END:VEVENT
BEGIN:VEVENT
DTSTART;TZID=Europe/Berlin:20260923T163000
DTEND;TZID=Europe/Berlin:20260923T180000
DTSTAMP:20260421T184858
CREATED:20260125T172252Z
LAST-MODIFIED:20260125T172303Z
UID:10004502-1790181000-1790186400@fmg-nw.de
SUMMARY:Jungschar
DESCRIPTION:
URL:https://fmg-nw.de/event/jungschar-4-2/2026-09-23/
END:VEVENT
BEGIN:VEVENT
DTSTART;TZID=Europe/Berlin:20260923T193000
DTEND;TZID=Europe/Berlin:20260923T210000
DTSTAMP:20260421T184858
CREATED:20260125T172212Z
LAST-MODIFIED:20260131T130459Z
UID:10004243-1790191800-1790197200@fmg-nw.de
SUMMARY:Bibelkreis
DESCRIPTION:
URL:https://fmg-nw.de/event/bibelkreis-4-2/2026-09-23/
END:VEVENT
END:VCALENDAR